BEGIN:VCALENDAR
VERSION:2.0
PRODID:-//ChamberMaster//Event Calendar 2.0//EN
METHOD:PUBLISH
X-PUBLISHED-TTL:P3D
REFRESH-INTERVAL:P3D
CALSCALE:GREGORIAN
BEGIN:VEVENT
DTSTART:20161011T150000Z
DTEND:20161011T170000Z
X-MICROSOFT-CDO-ALLDAYEVENT:FALSE
SUMMARY:Sauk Area Climate Awareness and Action Meeting
DESCRIPTION:Sauk Area Climate Awareness and Action meets Tuesday\, October 11 at 10 a.m. in the lower level of the Ruth Culver Memorial Library in Prairie du Sac. SACAA welcomes anyone interested in helping to raise awareness about\, and taking action to address and adapt to\, climate change. For more information contact Tom at 643-6331\, or email saukclimateinfo@gmail.com.
X-ALT-DESC;FMTTYPE=text/html:<p class="BodyA"><b><span style="font-size:15.0pt">Sauk Area Climate Awareness and Action</span></b><span style="font-size:15.0pt"> <b>meets</b> <b>Tuesday\, October 11 at 10 a.m.</b> in the lower level of the Ruth Culver Memorial Library in Prairie du Sac. SACAA welcomes anyone interested in helping to raise awareness about\, and taking action to address and adapt to\, climate change. For more information contact Tom at 643-6331\, or email saukclimateinfo@gmail.com.</span><o:p></o:p></p>\n
LOCATION:
UID:e.1184.9392
SEQUENCE:3
DTSTAMP:20260425T174329Z
URL:http://members.saukprairie.com/events/details/sauk-area-climate-awareness-and-action-meeting-9392
END:VEVENT

END:VCALENDAR
