BEGIN:VCALENDAR
VERSION:2.0
PRODID:-//ChamberMaster//Event Calendar 2.0//EN
METHOD:PUBLISH
X-PUBLISHED-TTL:P3D
REFRESH-INTERVAL:P3D
CALSCALE:GREGORIAN
BEGIN:VEVENT
DTSTART:20170207T130000Z
DTEND:20170207T160000Z
X-MICROSOFT-CDO-ALLDAYEVENT:FALSE
SUMMARY:Sauk Area Climate Awareness and Action Meeting
DESCRIPTION:Sauk Area Climate Awareness and Action meets Tuesday\, February 7 at 10 a.m. in the lower level of the Ruth Culver Memorial Library in Prairie du Sac. SACAA welcomes anyone interested in helping to raise awareness about\, and taking action to address and adapt to\, climate change. For more information contact Tom at 643-6331\, or send an email to saukclimateinfo@gmail.com.
X-ALT-DESC;FMTTYPE=text/html:<p class="BodyA"><span style="font-size:14px\;"><span style="font-family:arial\;"><b>Sauk Area Climate Awareness and Action</b> <b>meets</b> <b>Tuesday\, February 7 at 10 a.m.</b> in the lower level of the Ruth Culver Memorial Library in Prairie du Sac. SACAA welcomes anyone interested in helping to raise awareness about\, and taking action to address and adapt to\, climate change. For more information contact Tom at 643-6331\, or send an email to saukclimateinfo@gmail.com.</span></span><o:p></o:p></p>\n\n<p class="BodyA"><o:p></o:p></p>\n
LOCATION:
UID:e.1184.9874
SEQUENCE:3
DTSTAMP:20260425T124843Z
URL:http://members.saukprairie.com/events/details/sauk-area-climate-awareness-and-action-meeting-9874
END:VEVENT

END:VCALENDAR
