BEGIN:VCALENDAR
VERSION:2.0
PRODID:-//ChamberMaster//Event Calendar 2.0//EN
METHOD:PUBLISH
X-PUBLISHED-TTL:P3D
REFRESH-INTERVAL:P3D
CALSCALE:GREGORIAN
BEGIN:VEVENT
DTSTART:20160421T143000Z
DTEND:20160421T160000Z
X-MICROSOFT-CDO-ALLDAYEVENT:FALSE
SUMMARY:Sauk City Memory Cafe
DESCRIPTION:A Memory Café is a social gathering place where individuals with memory loss\, mild cognitive impairment\, early Alzheimer's\, or other dementias\, can come together. The café meets monthly to visit\, share common interests\, and enjoy refreshments. Each café is unique and offers a program or activity that?s fun and chosen by participants? interests. Family and friends are encouraged to come. If you require assistance to participate\, please have someone accompany you.
X-ALT-DESC;FMTTYPE=text/html:A Memory Café is a social gathering place where individuals with memory loss\, mild cognitive impairment\, early Alzheimer's\, or other dementias\, can come together. The café meets monthly to visit\, share common interests\, and enjoy refreshments. Each café is unique and offers a program or activity that?s fun and chosen by participants? interests. Family and friends are encouraged to come. If you require assistance to participate\, please have someone accompany you.
LOCATION:Sauk Prairie Community Center Cafe Connections 730 Monroe St. Sauk City\, WI
UID:e.1184.4089
SEQUENCE:3
DTSTAMP:20260426T033445Z
URL:http://members.saukprairie.com/events/details/sauk-city-memory-cafe-04-21-2016-4089
END:VEVENT

END:VCALENDAR
