BEGIN:VCALENDAR
VERSION:2.0
PRODID:-//ChamberMaster//Event Calendar 2.0//EN
METHOD:PUBLISH
X-PUBLISHED-TTL:P3D
REFRESH-INTERVAL:P3D
CALSCALE:GREGORIAN
BEGIN:VEVENT
DTSTART:20180324T140000Z
DTEND:20180324T150000Z
X-MICROSOFT-CDO-ALLDAYEVENT:FALSE
SUMMARY:Sauk City Village Board Candidate Meet & Greet
DESCRIPTION:Stop by for coffee and conversation with candidates running for the Village of Sauk City Board positions. It is possible that not all candidates will be in attendance. The Sauk City Public Library does not endorse or support any individual candidate.
X-ALT-DESC;FMTTYPE=text/html:Stop by for coffee and conversation with candidates running for the Village of Sauk City Board positions. It is possible that not all candidates will be in attendance. The Sauk City Public Library does not endorse or support any individual candidate.
LOCATION:
UID:e.1184.16739
SEQUENCE:3
DTSTAMP:20260424T145638Z
URL:http://members.saukprairie.com/events/details/sauk-city-village-board-candidate-meet-greet-16739
END:VEVENT

END:VCALENDAR
