BEGIN:VCALENDAR
VERSION:2.0
PRODID:-//ChamberMaster//Event Calendar 2.0//EN
METHOD:PUBLISH
X-PUBLISHED-TTL:P3D
REFRESH-INTERVAL:P3D
CALSCALE:GREGORIAN
BEGIN:VEVENT
DTSTART:20170720T220000Z
DTEND:20170721T020000Z
X-MICROSOFT-CDO-ALLDAYEVENT:FALSE
SUMMARY:Sauk Co. Area Young Professionals Mix & Mingle Event
DESCRIPTION:Join Sauk County Area Young Professionals for their 1st area Mix & Mingle Social Event. \n\n\n\nBYOB\, Brats\, burgers\, chips\, water will be provided.\n\n\n\nDrawings\, yard games\, networking\n\n\n\nRSVP: spacc@saukprairie.com
X-ALT-DESC;FMTTYPE=text/html:Join Sauk County Area Young Professionals for their 1st area Mix &amp\; Mingle Social Event.&nbsp\;<br />\n<br />\nBYOB\, Brats\, burgers\, chips\, water will be provided.<br />\n<br />\nDrawings\, yard games\, networking<br />\n<br />\nRSVP: spacc@saukprairie.com&nbsp\;&nbsp\;&nbsp\;&nbsp\;
LOCATION:Devil's Lake South Shore Shagbard
UID:e.1184.11778
SEQUENCE:3
DTSTAMP:20260425T032912Z
URL:http://members.saukprairie.com/events/details/sauk-co-area-young-professionals-mix-mingle-event-11778
END:VEVENT

END:VCALENDAR
