BEGIN:VCALENDAR
VERSION:2.0
PRODID:-//ChamberMaster//Event Calendar 2.0//EN
METHOD:PUBLISH
X-PUBLISHED-TTL:P3D
REFRESH-INTERVAL:P3D
CALSCALE:GREGORIAN
BEGIN:VEVENT
DTSTART;VALUE=DATE:20241010
DTEND;VALUE=DATE:20241011
TRANSP:TRANSPARENT
X-MICROSOFT-CDO-ALLDAYEVENT:TRUE
SUMMARY:Sauk & Columbia Women\, Words & Wine
DESCRIPTION:Join women from the Portage\, Reedsburg\, and Sauk Prairie Chambers as we aim to bring women together across our communities to hear from a dynamic speaker\, Dale Wilsher\, who will challenge each of us to live life with purpose\, passion\, and simply\, rise above. This event will take place at the beautiful Vennebu Hill located between Baraboo and Lake Delton and attendees will enjoy a plated dinner and regional wines.
X-ALT-DESC;FMTTYPE=text/html:<p --font-size:="" --line-height:="" line-height:="" yafdjjvw9ps="">Join women from the Portage\, Reedsburg\, and Sauk Prairie Chambers as we aim to bring women together across our communities to hear from a dynamic speaker\, Dale Wilsher\, who will challenge each of us to live life with purpose\, passion\, and simply\, rise above. This event will take place at the beautiful Vennebu Hill located between Baraboo and Lake Delton and attendees will enjoy a plated dinner and regional wines.<br />\n<br />\n&nbsp\;</p>\n
LOCATION:Vennebu Hill 360 Country Road A Baraboo\, WI 53913
UID:e.1184.31484
SEQUENCE:3
DTSTAMP:20260419T155809Z
URL:http://members.saukprairie.com/events/details/sauk-columbia-women-words-wine-31484
END:VEVENT

END:VCALENDAR
