BEGIN:VCALENDAR
VERSION:2.0
PRODID:-//ChamberMaster//Event Calendar 2.0//EN
METHOD:PUBLISH
X-PUBLISHED-TTL:P3D
REFRESH-INTERVAL:P3D
CALSCALE:GREGORIAN
BEGIN:VEVENT
DTSTART:20210120T143000Z
DTEND:20210120T160000Z
X-MICROSOFT-CDO-ALLDAYEVENT:FALSE
SUMMARY:Sauk County Business Summit
DESCRIPTION:Featured VIRTUAL Presenter:\n\nDr. Steven Deller\, UW Economist\, Professor & Community Development Specialist will be our guest speaker\, presenting the Economic Forecast for 2021. As a new feature of this year's event\, participants will be able to connect with industry representatives to analyze data\, ask questions relevant to their specific industry\, and share best practices. \n\n\n\nRegister Here: https://us02web.zoom.us/meeting/register/tZYlfuuoqToiG9EkTda43ujQ-fZ3v29iXcyb
X-ALT-DESC;FMTTYPE=text/html:<span style="font-size:18px\;"><strong>Featured VIRTUAL Presenter:</strong></span><br />\n<span style="color:black\;"><span style="font-family:garamond\,serif\;"><span style="font-size:12.0pt\;">Dr. Steven Deller\, UW Economist\, Professor &amp\; Community Development Specialist will be our guest speaker\, presenting the Economic Forecast for 2021.&nbsp\;As a new feature of this year&rsquo\;s event\, participants will be able to connect with industry representatives to analyze data\, ask questions relevant to their specific industry\, and share best practices.&nbsp\;</span></span></span><br />\n<br />\n<span style="font-family:georgia\,serif\;"><span style="font-size:10.0pt\;">Register Here:&nbsp\;<a href="https://us02web.zoom.us/meeting/register/tZYlfuuoqToiG9EkTda43ujQ-fZ3v29iXcyb">https://us02web.zoom.us/meeting/register/tZYlfuuoqToiG9EkTda43ujQ-fZ3v29iXcyb</a> </span></span>
LOCATION:
UID:e.1184.26170
SEQUENCE:3
DTSTAMP:20260422T104323Z
URL:http://members.saukprairie.com/events/details/sauk-county-business-summit-26170
END:VEVENT

END:VCALENDAR
