BEGIN:VCALENDAR
VERSION:2.0
PRODID:-//ChamberMaster//Event Calendar 2.0//EN
METHOD:PUBLISH
X-PUBLISHED-TTL:P3D
REFRESH-INTERVAL:P3D
CALSCALE:GREGORIAN
BEGIN:VEVENT
DTSTART:20180609T120000Z
DTEND:20180609T160000Z
X-MICROSOFT-CDO-ALLDAYEVENT:FALSE
SUMMARY:Sauk County Dairy Breakfast
DESCRIPTION:29th Sauk County Dairy Breakfast on the Farm!\n\nBRIAN BENDER FAMILY FARM\n\nS4065 State Road 136\, Reedsburg\n\nHwy 33 east to Hwy 136   2 1/2 miles to the farm (intersection of Mile Road and Hwy 136)\n\nFrom Baraboo: Hwy 136 to Rock Springs - downtown turn right onto Hwy 136 - 2 mileses\n\n\n\nON THE MENU -\n\nCheese\n\nScrambled Eggs w/Ham\n\nPancakes\n\nApplesauce\n\nFrozen Custard\n\n(Topped w/Strawberries or Honey Fudge)\n\nMilk\, Juice\, Coffee\n\n\n\nBUS SHUTTLES STRONGLY ENCOURAGED - BUS SHUTTLES FROM REEDSBURG\n\nNishan Park - upper parking lot near RACA Building\, Hwy H - beginning 6:30 am\n\n(limited parking near farm)\n\nEducational and historical displays / petting zoo on the grounds\n\nDoor prizes drawn every 30 minutes\n\nEntertainment beginning at 7 a.m. - Jim Pfaff / Monty Berger
X-ALT-DESC;FMTTYPE=text/html:29th Sauk County Dairy Breakfast on the Farm!<br />\nBRIAN BENDER FAMILY FARM<br />\nS4065 State Road 136\, Reedsburg<br />\nHwy 33 east to Hwy 136 &bull\; 2 1/2 miles to the farm (intersection of Mile Road and Hwy 136)<br />\nFrom Baraboo: Hwy 136 to Rock Springs - downtown turn right onto Hwy 136 - 2 mileses<br />\n<br />\nON THE MENU -<br />\nCheese<br />\nScrambled Eggs w/Ham<br />\nPancakes<br />\nApplesauce<br />\nFrozen Custard<br />\n(Topped w/Strawberries or Honey Fudge)<br />\nMilk\, Juice\, Coffee<br />\n<br />\nBUS SHUTTLES STRONGLY ENCOURAGED - BUS SHUTTLES FROM REEDSBURG<br />\nNishan Park - upper parking lot near RACA Building\, Hwy H - beginning 6:30 am<br />\n(limited parking near farm)<br />\nEducational and historical displays / petting zoo on the grounds<br />\nDoor prizes drawn every 30 minutes<br />\nEntertainment beginning at 7 a.m. - Jim Pfaff / Monty Berger
LOCATION:S4065 State Road 136\, Reedsburg
UID:e.1184.18131
SEQUENCE:3
DTSTAMP:20260424T100413Z
URL:http://members.saukprairie.com/events/details/sauk-county-dairy-breakfast-18131
END:VEVENT

END:VCALENDAR
