BEGIN:VCALENDAR
VERSION:2.0
PRODID:-//ChamberMaster//Event Calendar 2.0//EN
METHOD:PUBLISH
X-PUBLISHED-TTL:P3D
REFRESH-INTERVAL:P3D
CALSCALE:GREGORIAN
BEGIN:VEVENT
DTSTART:20190608T120000Z
DTEND:20190608T160000Z
X-MICROSOFT-CDO-ALLDAYEVENT:FALSE
SUMMARY:Sauk County Dairy Breakfast
DESCRIPTION:30th Sauk County Dairy Breakfast on the Farm!\n\nLOHR FAMILY FARM (Melvin\, Doris\, Greg & Tom Lohr)\n\nS9591 Church Road\, Prairie du Sac\n\nState Hwy. 12 to County Hwy. PF\, head west (about 4 1/2 miles) to Church Road\n\n\n\nBus Shuttles - Starting at 6:30am\n\nParking at former Tesch's Flower Land - E11290 Hwy. PF (north of Mid-States John Deere)\n\n\n\nON THE MENU -\n\nCheese\n\nScrambled Eggs w/Ham\n\nPancakes\n\nApplesauce\n\nFrozen Custard\n\n(Topped w/Strawberries or Honey Fudge)\n\nMilk\, Juice\, Coffee\n\n\n\nEducational and historical displays / petting zoo on the grounds\n\nDoor prizes drawn every 30 minutes\n\nEntertainment - High Mileage Band & Cripple Creek Cloggers\n\nOpen House - Ragatz Honey Creek Church (on the corner of Hwy. PF and Church Road)
X-ALT-DESC;FMTTYPE=text/html:<strong>30th Sauk County Dairy Breakfast on the Farm!</strong><br />\nLOHR FAMILY FARM (Melvin\, Doris\, Greg &amp\; Tom Lohr)<br />\nS9591 Church Road\, Prairie du Sac<br />\nState Hwy. 12 to County Hwy. PF\, head west (about 4 1/2 miles) to Church Road<br />\n<br />\n<strong>Bus Shuttles - Starting at 6:30am</strong><br />\nParking at former Tesch&#39\;s Flower Land - E11290 Hwy. PF (north of Mid-States John Deere)<br />\n<br />\n<strong>ON THE MENU -</strong><br />\nCheese<br />\nScrambled Eggs w/Ham<br />\nPancakes<br />\nApplesauce<br />\nFrozen Custard<br />\n(Topped w/Strawberries or Honey Fudge)<br />\nMilk\, Juice\, Coffee<br />\n<br />\nEducational and historical displays / petting zoo on the grounds<br />\nDoor prizes drawn every 30 minutes<br />\nEntertainment - High Mileage Band &amp\; Cripple Creek Cloggers<br />\nOpen House - Ragatz Honey Creek Church (on the corner of Hwy. PF and Church Road)
LOCATION:S9591 Church Road\, Prairie du Sac
UID:e.1184.22315
SEQUENCE:3
DTSTAMP:20260423T171457Z
URL:http://members.saukprairie.com/events/details/sauk-county-dairy-breakfast-22315
END:VEVENT

END:VCALENDAR
