BEGIN:VCALENDAR
VERSION:2.0
PRODID:-//ChamberMaster//Event Calendar 2.0//EN
METHOD:PUBLISH
X-PUBLISHED-TTL:P3D
REFRESH-INTERVAL:P3D
CALSCALE:GREGORIAN
BEGIN:VEVENT
DTSTART:20220611T120000Z
DTEND:20220611T160000Z
X-MICROSOFT-CDO-ALLDAYEVENT:FALSE
SUMMARY:Sauk County Dairy Breakfast
DESCRIPTION:31st Sauk County Dairy Breakfast on the Farm!\n\nSchyvinck's Hillside Haven\n\nE6458 Pine Rock Road\, Reedsburg\n\n\n\nBus Shuttles - Starting at 6:30am\n\nAt Webb Middle School\n\n707 N Webb Ave\, Reedsburg\, WI\n\n*Pasture Parking for ATVs*\n\n\n\nON THE MENU -\n\nPancakes\n\nScrambled Eggs w/Ham\n\nCheese Curds\n\nApplesauce\n\nMilk\, Juice\, Coffee\n\nCulver's Frozen Custard\n\n\n\nEntertainment\n\nCripple Creek Cloggers\n\nMonty Berger - One Man Band\n\n\n\nSelf-Guided Farm Tour\n\nEquipment Displays\n\nAntique Tractor Clubs\n\nEducational Exhibits
X-ALT-DESC;FMTTYPE=text/html:<strong>31st Sauk County Dairy Breakfast on the Farm!</strong><br />\nSchyvinck&#39\;s Hillside Haven<br />\nE6458 Pine Rock Road\, Reedsburg<br />\n<br />\n<strong>Bus Shuttles - Starting at 6:30am</strong><br />\nAt Webb Middle School<br />\n707 N Webb Ave\, Reedsburg\, WI<br />\n*Pasture Parking for ATVs*<br />\n<br />\n<strong>ON THE MENU -</strong><br />\nPancakes<br />\nScrambled Eggs w/Ham<br />\nCheese Curds<br />\nApplesauce<br />\nMilk\, Juice\, Coffee<br />\nCulver&#39\;s Frozen Custard<br />\n<br />\n<strong>Entertainment</strong><br />\nCripple Creek Cloggers<br />\nMonty Berger - One Man Band<br />\n<br />\nSelf-Guided Farm Tour<br />\nEquipment Displays<br />\nAntique Tractor Clubs<br />\nEducational Exhibits<br />\n<br />\n&nbsp\;
LOCATION:S9591 E6458 Pine Rock Road\, Reedsburg
UID:e.1184.27673
SEQUENCE:3
DTSTAMP:20260421T115821Z
URL:http://members.saukprairie.com/events/details/sauk-county-dairy-breakfast-27673
END:VEVENT

END:VCALENDAR
