BEGIN:VCALENDAR
VERSION:2.0
PRODID:-//ChamberMaster//Event Calendar 2.0//EN
METHOD:PUBLISH
X-PUBLISHED-TTL:P3D
REFRESH-INTERVAL:P3D
CALSCALE:GREGORIAN
BEGIN:VEVENT
DTSTART:20230610T120000Z
DTEND:20230610T160000Z
X-MICROSOFT-CDO-ALLDAYEVENT:FALSE
SUMMARY:Sauk County Dairy Breakfast
DESCRIPTION:32nd Sauk County Dairy Breakfast on the Farm!\n\nBrander's Dairy Farm\n\nE3886 US Hwy 14 & 60\, Spring Green\n\n\n\nON THE MENU -\n\nPancakes\n\nScrambled Eggs w/Ham\n\nCheese Curds\n\nApplesauce\n\nMilk\, Juice\, Coffee\n\nCulver's Frozen Custard\n\n\n\nEntertainment\n\nGary Beal Band\n\n"Dairy Aire Moosic"\n\n\n\nCripple Creek Cloggers\n\nSponsored by: Darlene Ballweg\n\n\n\nRain or Shine\n\nEquipment Displays\n\nEducational Exhibits\n\nNo Bus Shuttles
X-ALT-DESC;FMTTYPE=text/html:<strong>32nd Sauk County Dairy Breakfast on the Farm!</strong><br />\nBrander&#39\;s Dairy Farm<br />\nE3886 US Hwy 14 &amp\; 60\, Spring Green<br />\n<br />\n<strong>ON THE MENU -</strong><br />\nPancakes<br />\nScrambled Eggs w/Ham<br />\nCheese Curds<br />\nApplesauce<br />\nMilk\, Juice\, Coffee<br />\nCulver&#39\;s Frozen Custard<br />\n<br />\n<strong>Entertainment</strong><br />\nGary Beal Band<br />\n&quot\;Dairy Aire Moosic&quot\;<br />\n<br />\nCripple Creek Cloggers<br />\nSponsored by: Darlene Ballweg<br />\n<br />\nRain or Shine<br />\nEquipment Displays<br />\nEducational Exhibits<br />\nNo Bus Shuttles<br />\n<br />\n&nbsp\;
LOCATION:Brander's Dairy Farm E3886 US Hwy 14 & 60\, Spring Green
UID:e.1184.30869
SEQUENCE:3
DTSTAMP:20260420T115711Z
URL:http://members.saukprairie.com/events/details/sauk-county-dairy-breakfast-30869
END:VEVENT

END:VCALENDAR
