BEGIN:VCALENDAR
VERSION:2.0
PRODID:-//ChamberMaster//Event Calendar 2.0//EN
METHOD:PUBLISH
X-PUBLISHED-TTL:P3D
REFRESH-INTERVAL:P3D
CALSCALE:GREGORIAN
BEGIN:VEVENT
DTSTART:20160424T150000Z
DTEND:20160424T200000Z
X-MICROSOFT-CDO-ALLDAYEVENT:FALSE
SUMMARY:Sauk County Earth Day Celebration
DESCRIPTION:Join us for the 17th Annual Sauk County Earth Day Celebration. This is a family-friendly event with displays from area non-profits and eco-minded businesses. Two workshops and two hikes in the Baraboo River's Upper Narrows. We have live music and food.\n\n\n\nSauk County Art Association's Encore!!Art #8\, an art show open to everyone\, will be held in conjunction with the Celebration.\n\n\n\nNew this year: Sauk County Earth Day Celebration returns to it's roots and the Rock Springs Community Center.
X-ALT-DESC;FMTTYPE=text/html:Join us for the 17th Annual Sauk County Earth Day Celebration. This is a family-friendly event with displays from area non-profits and eco-minded businesses. Two workshops and two hikes in the Baraboo River&#39\;s Upper Narrows. We have live music and food.<br />\n<br />\nSauk County Art Association&#39\;s Encore!!Art #8\, an art show open to everyone\, will be held in conjunction with the Celebration.<br />\n<br />\nNew this year: Sauk County Earth Day Celebration returns to it&#39\;s roots and the Rock Springs Community Center.&nbsp\;&nbsp\;&nbsp\;&nbsp\;
LOCATION:Rock Springs Community Center
UID:e.1184.8347
SEQUENCE:3
DTSTAMP:20260426T033355Z
URL:http://members.saukprairie.com/events/details/sauk-county-earth-day-celebration-04-24-2016-8347
END:VEVENT

END:VCALENDAR
