BEGIN:VCALENDAR
VERSION:2.0
PRODID:-//ChamberMaster//Event Calendar 2.0//EN
METHOD:PUBLISH
X-PUBLISHED-TTL:P3D
REFRESH-INTERVAL:P3D
CALSCALE:GREGORIAN
BEGIN:VEVENT
DTSTART:20180422T150000Z
DTEND:20180422T200000Z
X-MICROSOFT-CDO-ALLDAYEVENT:FALSE
SUMMARY:Sauk County Earth Day Celebration
DESCRIPTION:Family friendly\, the Sauk County Earth Day Celebration brings together organizations and individuals who celebrate the great outdoors. Come spend the day with us. We have hikes\, presentations\, fascinating displays\, the Encore!! Art show\, the Kid's Corner\, pie AND a local author!  Read more on our website.
X-ALT-DESC;FMTTYPE=text/html:Family friendly\, the Sauk County Earth Day Celebration brings together organizations and individuals who celebrate the great outdoors. Come spend the day with us. We have hikes\, presentations\, fascinating displays\, the Encore!! Art show\, the Kid&#39\;s Corner\, pie AND a local author! &nbsp\;Read more on our website.
LOCATION:Rock Springs Community Center\, where the Sauk County Earth Day Celebration started!
UID:e.1184.14707
SEQUENCE:3
DTSTAMP:20260424T143907Z
URL:http://members.saukprairie.com/events/details/sauk-county-earth-day-celebration-14707
END:VEVENT

END:VCALENDAR
