BEGIN:VCALENDAR
VERSION:2.0
PRODID:-//ChamberMaster//Event Calendar 2.0//EN
METHOD:PUBLISH
X-PUBLISHED-TTL:P3D
REFRESH-INTERVAL:P3D
CALSCALE:GREGORIAN
BEGIN:VEVENT
DTSTART:20190428T150000Z
DTEND:20190428T200000Z
X-MICROSOFT-CDO-ALLDAYEVENT:FALSE
SUMMARY:Sauk County Earth Day Celebration
DESCRIPTION:The 2019 Sauk County Earth Day Celebration event marks the 20th Anniversary of this event. We've moved to the VFW in Prairie du Sac for out next event. Join us\, we have Seeds of inspiration for you.\n\n\n\nFamily friendly\, the Sauk County Earth Day Celebration brings together organizations and individuals who celebrate the great outdoors. Come spend the day with us. We have hikes\, presentations\, fascinating displays\, the Encore!! Art show\, the Kid's Corner\, pie AND a local author!  Read more on our website.
X-ALT-DESC;FMTTYPE=text/html:<span style="font-family: &quot\;Helvetica Neue&quot\;\, Helvetica\, Arial\, sans-serif\;">The 2019 Sauk County Earth Day Celebration event marks the 20th Anniversary of this event. We&#39\;ve moved to the VFW in Prairie du Sac for out next event. Join us\, we have Seeds of inspiration for you.</span><br />\n<br />\nFamily friendly\, the Sauk County Earth Day Celebration brings together organizations and individuals who celebrate the great outdoors. Come spend the day with us. We have hikes\, presentations\, fascinating displays\, the Encore!! Art show\, the Kid&#39\;s Corner\, pie AND a local author! &nbsp\;Read more on our website.
LOCATION:VFW 700 VFW Dr Prairie du Sac\, WI 53578
UID:e.1184.22072
SEQUENCE:3
DTSTAMP:20260423T201018Z
URL:http://members.saukprairie.com/events/details/sauk-county-earth-day-celebration-22072
END:VEVENT

END:VCALENDAR
