BEGIN:VCALENDAR
VERSION:2.0
PRODID:-//ChamberMaster//Event Calendar 2.0//EN
METHOD:PUBLISH
X-PUBLISHED-TTL:P3D
REFRESH-INTERVAL:P3D
CALSCALE:GREGORIAN
BEGIN:VEVENT
DTSTART:20161105T160000Z
DTEND:20161105T190000Z
X-MICROSOFT-CDO-ALLDAYEVENT:FALSE
SUMMARY:Sauk County Humane Society Adopt-a-thon
DESCRIPTION:The first Saturday of every month Sauk Prairie Animal Hospital hosts an adoptathon for Sauk County Humane Society from 11am-2pm. Adoptable dogs and cats are available to meet at the Sauk Prairie Small Animal Hospital.\n\n\n\nStop by the Shamrock Pet Resort to meet your next family member. These sweet pets will be waiting for you.
X-ALT-DESC;FMTTYPE=text/html:<span style="font-family:arial\,sans-serif\;"><span style="font-size:10.0pt\;">The first Saturday of every month Sauk Prairie Animal Hospital hosts an adoptathon for Sauk County Humane Society from 11am-2pm. Adoptable dogs and cats are available to meet at the Sauk Prairie Small Animal Hospital.</span></span><br>\n<br>\n<span style="color: rgb(78\, 86\, 101)\; font-family: helvetica\, arial\, sans-serif\; font-size: 14px\; line-height: 18.76px\;">Stop by the Shamrock Pet Resort to meet your next family member. These sweet pets will be waiting for you.</span>
LOCATION:E11340 County Road PF Prairie du Sac\, WI 53578
UID:e.1184.8481
SEQUENCE:3
DTSTAMP:20260425T161104Z
URL:http://members.saukprairie.com/events/details/sauk-county-humane-society-adopt-a-thon-11-05-2016-8481
END:VEVENT

END:VCALENDAR
