BEGIN:VCALENDAR
VERSION:2.0
PRODID:-//ChamberMaster//Event Calendar 2.0//EN
METHOD:PUBLISH
X-PUBLISHED-TTL:P3D
REFRESH-INTERVAL:P3D
CALSCALE:GREGORIAN
BEGIN:VEVENT
DTSTART:20180505T140000Z
DTEND:20180505T180000Z
X-MICROSOFT-CDO-ALLDAYEVENT:FALSE
SUMMARY:Sauk County Humane Society PAWS Walk and Family Fun Festival
DESCRIPTION:The Sauk County Humane Society PAWS Pledge Walk and Family Fun festival is an annual fund raising event for the homeless\, shelter animals. The PLEDGE walk raises funds to not only assist the shelter with caring for the animals\, but helps many throughout the community with various support programs. Register\, obtain pledges and win prizes\, enjoy kids games\, live music\, venders\, and food!
X-ALT-DESC;FMTTYPE=text/html:The Sauk County Humane Society PAWS Pledge Walk and Family Fun festival is an annual fund raising event for the homeless\, shelter animals. The PLEDGE walk raises funds to not only assist the shelter with caring for the animals\, but helps many throughout the community with various support programs. Register\, obtain pledges and win prizes\, enjoy kids games\, live music\, venders\, and food!
LOCATION:Sauk County Fairgrounds Baraboo\, WI
UID:e.1184.14700
SEQUENCE:3
DTSTAMP:20260424T112650Z
URL:http://members.saukprairie.com/events/details/sauk-county-humane-society-paws-walk-and-family-fun-festival-05-05-2018-14700
END:VEVENT

END:VCALENDAR
