BEGIN:VCALENDAR
VERSION:2.0
PRODID:-//ChamberMaster//Event Calendar 2.0//EN
METHOD:PUBLISH
X-PUBLISHED-TTL:P3D
REFRESH-INTERVAL:P3D
CALSCALE:GREGORIAN
BEGIN:VEVENT
DTSTART:20180907T230000Z
DTEND:20180908T020000Z
X-MICROSOFT-CDO-ALLDAYEVENT:FALSE
SUMMARY:Sauk Hop Wine Walk
DESCRIPTION:Downtown Sauk City (Water Street business district) is hosting the first annual Sauk Hop Wine Walk. Stroll along Water Street and stop at 15 participating businesses and taste wine\, sample snacks and enjoy entertiaimnment along the way! This years theme is VEGAS so come dressed the part (cocktail dresses\, Elvis costumes or Donny/Marie are encouraged!) Wine glasses can be picked up at the Sauk Prairie Area Chamber of Commerce the day of the event (from 9A-2P) or at the start of the event which is 6PM. Tickets will be sold on Eventbrite starting at 9AM on August 1\, 2018 with 300 ticket maximum sold. All proceeds will go to The Great Sauk State Trail.\n\n \n\nOnly $25 per person\, limited to the first 300!\n\nPrice includes a wristband for one ounce of a red wine and one ounce of a white wine at each location. You also receive a map of the event with participating businesses \, and a chance to win gift certificates if you make it to all 15 stops! Gather your group for a very memorable evening in beautiful downtown Sauk City!\n\n \n\nPlan a Safe Ride~\n\nSauk Prairie Bar Buddies will be offering round trip rides starting at 5:30 pm on Friday\, September 7th and running until after 2am. Please call them today and schedule your pick up. Make your reservations early\, space is limited.
X-ALT-DESC;FMTTYPE=text/html:<p style="margin: 0px\; padding: 0px\; color: rgb(102\, 106\, 115)\; font-family: &quot\;Benton Sans&quot\;\, -apple-system\, BlinkMacSystemFont\, Roboto\, &quot\;Helvetica Neue&quot\;\, Helvetica\, Tahoma\, Arial\, sans-serif\; font-size: 15px\; letter-spacing: 0.5px\;">Downtown Sauk City (Water Street business district) is hosting the first annual Sauk Hop Wine Walk. Stroll along Water Street and stop at 15 participating businesses and taste wine\, sample snacks and enjoy entertiaimnment along the way! This years theme is VEGAS so come dressed the part (cocktail dresses\, Elvis costumes or Donny/Marie are encouraged!) Wine glasses can be picked up at the Sauk Prairie Area Chamber of Commerce the day of the event (from 9A-2P) or at the start of the event which is 6PM. Tickets will be sold on Eventbrite starting at 9AM on August 1\, 2018 with 300 ticket maximum sold. All proceeds will go to The Great Sauk State Trail.</p>\n\n<p style="margin: 0px\; padding: 10px 0px 0px\; color: rgb(102\, 106\, 115)\; font-family: &quot\;Benton Sans&quot\;\, -apple-system\, BlinkMacSystemFont\, Roboto\, &quot\;Helvetica Neue&quot\;\, Helvetica\, Tahoma\, Arial\, sans-serif\; font-size: 15px\; letter-spacing: 0.5px\;">&nbsp\;</p>\n\n<p style="margin: 0px\; padding: 10px 0px 0px\; color: rgb(102\, 106\, 115)\; font-family: &quot\;Benton Sans&quot\;\, -apple-system\, BlinkMacSystemFont\, Roboto\, &quot\;Helvetica Neue&quot\;\, Helvetica\, Tahoma\, Arial\, sans-serif\; font-size: 15px\; letter-spacing: 0.5px\;">Only $25 per person\, limited to the first 300!</p>\n\n<p style="margin: 0px\; padding: 10px 0px 0px\; color: rgb(102\, 106\, 115)\; font-family: &quot\;Benton Sans&quot\;\, -apple-system\, BlinkMacSystemFont\, Roboto\, &quot\;Helvetica Neue&quot\;\, Helvetica\, Tahoma\, Arial\, sans-serif\; font-size: 15px\; letter-spacing: 0.5px\;"><span style="padding-top: 0px\;">Price includes a wristband for one ounce of a red wine and one ounce of a white wine at each location. You also receive a map of the event with participating businesses \, and a chance to win gift certificates if you make it to all 15 stops! Gather your group for a very memorable evening in beautiful downtown Sauk City!</span></p>\n\n<p style="margin: 0px\; padding: 10px 0px 0px\; color: rgb(102\, 106\, 115)\; font-family: &quot\;Benton Sans&quot\;\, -apple-system\, BlinkMacSystemFont\, Roboto\, &quot\;Helvetica Neue&quot\;\, Helvetica\, Tahoma\, Arial\, sans-serif\; font-size: 15px\; letter-spacing: 0.5px\;">&nbsp\;</p>\n\n<p style="margin: 0px\; padding: 10px 0px 0px\; color: rgb(102\, 106\, 115)\; font-family: &quot\;Benton Sans&quot\;\, -apple-system\, BlinkMacSystemFont\, Roboto\, &quot\;Helvetica Neue&quot\;\, Helvetica\, Tahoma\, Arial\, sans-serif\; font-size: 15px\; letter-spacing: 0.5px\;">Plan a Safe Ride~</p>\n\n<p style="margin: 0px\; padding: 10px 0px 0px\; color: rgb(102\, 106\, 115)\; font-family: &quot\;Benton Sans&quot\;\, -apple-system\, BlinkMacSystemFont\, Roboto\, &quot\;Helvetica Neue&quot\;\, Helvetica\, Tahoma\, Arial\, sans-serif\; font-size: 15px\; letter-spacing: 0.5px\;">Sauk Prairie Bar Buddies will be offering round trip rides starting at 5:30 pm on Friday\, September 7th and running until after 2am. Please call them today and schedule your pick up. Make your reservations early\, space is limited.</p>\n
LOCATION:
UID:e.1184.20480
SEQUENCE:3
DTSTAMP:20260424T064129Z
URL:http://members.saukprairie.com/events/details/sauk-hop-wine-walk-20480
END:VEVENT

END:VCALENDAR
