BEGIN:VCALENDAR
VERSION:2.0
PRODID:-//ChamberMaster//Event Calendar 2.0//EN
METHOD:PUBLISH
X-PUBLISHED-TTL:P3D
REFRESH-INTERVAL:P3D
CALSCALE:GREGORIAN
BEGIN:VEVENT
DTSTART:20190426T230000Z
DTEND:20190427T020000Z
X-MICROSOFT-CDO-ALLDAYEVENT:FALSE
SUMMARY:Sauk Prairie Against Hunger - A Night of HOPE
DESCRIPTION:Join in the fun\, and help Sauk Prairie Against Hunger raise money for this year's Pack Event!  We will have our Cook Off\, featuring soups\, breads\, and desserts made by local people\, vying for the coveted 1st place prize.  Check out our many auction items\, and join in the fun throughout the evening.  LOCATION IS NEW THIS YEAR...6:8 Inc.\, 821 Industry Rd.\, Sauk City. So bring your friends\, or make it a date night with your spouse.  For more information\, go to our website: www.MakingServicePersonal.org/spah.  \n\nAll proceeds to this event will go to our annual Pack Event.
X-ALT-DESC;FMTTYPE=text/html:Join in the fun\, and help Sauk Prairie Against Hunger raise money for this year&#39\;s Pack Event!&nbsp\; We will have our Cook Off\, featuring soups\, breads\, and desserts made by local people\, vying for the coveted 1st place prize.&nbsp\; Check out our many auction items\, and join in the fun throughout the evening.&nbsp\; LOCATION IS NEW THIS YEAR...6:8 Inc.\, 821 Industry Rd.\, Sauk City. So bring your friends\, or make it a date night with your spouse.&nbsp\; For more information\, go to our website: www.MakingServicePersonal.org/spah.&nbsp\;&nbsp\;<br />\nAll proceeds to this event will go to our annual Pack Event.
LOCATION:6:8 Inc. 821 Industry Rd Sauk City\, WI 53583
UID:e.1184.22016
SEQUENCE:3
DTSTAMP:20260423T202036Z
URL:http://members.saukprairie.com/events/details/sauk-prairie-against-hunger-a-night-of-hope-22016
END:VEVENT

END:VCALENDAR
