BEGIN:VCALENDAR
VERSION:2.0
PRODID:-//ChamberMaster//Event Calendar 2.0//EN
METHOD:PUBLISH
X-PUBLISHED-TTL:P3D
REFRESH-INTERVAL:P3D
CALSCALE:GREGORIAN
BEGIN:VEVENT
DTSTART:20160923T150000Z
DTEND:20160924T010000Z
X-MICROSOFT-CDO-ALLDAYEVENT:FALSE
SUMMARY:Sauk Prairie Against Hunger/Papa Murphy?s September 23rd Fund Raiser
DESCRIPTION:Papa Murphy's Pizza\, 1430 Prairie St\, Prairie du Sac is hosting a fundraiser for Sauk Prairie Against Hunger on Friday September 23rd from 10:00 a.m. to 8:00. For each Large or Family size pizza sold that day at full price\, $2.00 will be donated to Sauk Prairie Against Hunger's Pack event at Grand Avenue October 27-29\, 2016.\n\n \n\nPlease come and purchase Papa Murphy's delicious Large or Family size pizza for you and your family to enjoy and help feed children locally and globally.
X-ALT-DESC;FMTTYPE=text/html:<span style="font-size:14px\;">Papa Murphy&rsquo\;s Pizza\, 1430 Prairie St\, Prairie du Sac is hosting a fundraiser for Sauk Prairie Against Hunger on Friday September 23<sup>rd</sup> from 10:00 a.m. to 8:00. For each Large or Family size pizza sold that day at full price\, $2.00 will be donated to Sauk Prairie Against Hunger&rsquo\;s Pack event at Grand Avenue October 27-29\, 2016.<br />\n&nbsp\;<br />\nPlease come and purchase Papa Murphy&rsquo\;s delicious Large or Family size pizza for you and your family to enjoy and help feed children locally and globally.</span>
LOCATION:
UID:e.1184.9381
SEQUENCE:3
DTSTAMP:20260425T192920Z
URL:http://members.saukprairie.com/events/details/sauk-prairie-against-hunger-papa-murphy-s-september-23rd-fund-raiser-9381
END:VEVENT

END:VCALENDAR
