BEGIN:VCALENDAR
VERSION:2.0
PRODID:-//ChamberMaster//Event Calendar 2.0//EN
METHOD:PUBLISH
X-PUBLISHED-TTL:P3D
REFRESH-INTERVAL:P3D
CALSCALE:GREGORIAN
BEGIN:VEVENT
DTSTART:20161206T180000Z
DTEND:20161206T190000Z
X-MICROSOFT-CDO-ALLDAYEVENT:FALSE
SUMMARY:Sauk Prairie Ambulance Ribbon Cutting
DESCRIPTION:Join us for a Ribbon Cutting Ceremony for the new reveal of the Sauk Prairie Ambulance's new building.\n\n\n\nrsvp to spacc@saukprairie.com
X-ALT-DESC;FMTTYPE=text/html:Join us for a Ribbon Cutting Ceremony for the new reveal of the Sauk Prairie Ambulance&#39\;s new building.<br />\n<br />\nrsvp to spacc@saukprairie.com
LOCATION:470 Oak Street Prairie du Sac\, WI 53578
UID:e.1184.9746
SEQUENCE:3
DTSTAMP:20260425T142044Z
URL:http://members.saukprairie.com/events/details/sauk-prairie-ambulance-ribbon-cutting-9746
END:VEVENT

END:VCALENDAR
