BEGIN:VCALENDAR
VERSION:2.0
PRODID:-//ChamberMaster//Event Calendar 2.0//EN
METHOD:PUBLISH
X-PUBLISHED-TTL:P3D
REFRESH-INTERVAL:P3D
CALSCALE:GREGORIAN
BEGIN:VEVENT
DTSTART:20180502T210000Z
DTEND:20180503T010000Z
X-MICROSOFT-CDO-ALLDAYEVENT:FALSE
SUMMARY:Sauk Prairie Ambulance Spaghetti Dinner Fundraiser
DESCRIPTION:2nd Annual Sauk Prairie Ambulance Spaghetti Dinner Fundraiser.\n\nWednesday\, May 2nd\, 2018 at the Lake Wisconsin Country Club 4pm-8pm.\n\nTickets at the door: Adults - $12\, Children 4-12 - $10\, under 4 - Free\n\nCarryouts available
X-ALT-DESC;FMTTYPE=text/html:2nd Annual Sauk Prairie Ambulance Spaghetti Dinner Fundraiser.<br />\nWednesday\, May 2nd\, 2018 at the Lake Wisconsin Country Club 4pm-8pm.<br />\nTickets at the door: Adults - $12\, Children 4-12 - $10\, under 4 - Free<br />\nCarryouts available
LOCATION:Lake Wisconsin Country Club N1076 Golf Rd Prairie du Sac\, WI 53583
UID:e.1184.18065
SEQUENCE:3
DTSTAMP:20260424T112235Z
URL:http://members.saukprairie.com/events/details/sauk-prairie-ambulance-spaghetti-dinner-fundraiser-18065
END:VEVENT

END:VCALENDAR
