BEGIN:VCALENDAR
VERSION:2.0
PRODID:-//ChamberMaster//Event Calendar 2.0//EN
METHOD:PUBLISH
X-PUBLISHED-TTL:P3D
REFRESH-INTERVAL:P3D
CALSCALE:GREGORIAN
BEGIN:VEVENT
DTSTART;VALUE=DATE:20181119
DTEND;VALUE=DATE:20181120
TRANSP:TRANSPARENT
X-MICROSOFT-CDO-ALLDAYEVENT:TRUE
SUMMARY:Sauk Prairie Area 20th Annual Caring Tree Program
DESCRIPTION:Qualifications:\n\nChildren 18 years of age and under\n\nRegistered in Sauk Prairie School District\n\nQualify financially (low income or federal poverty guidelines)\n\n \n\nApplications available at:\n\nSt. Vincent de Paul Community Resource Center 1906 North St. Prairie du Sac\, WI 53578\n\nOr at St. Vincent de Paul Community Store 815 19th St. Prairie du Sac\, WI 53578\n\n \n\nApplications should be filled out and returned on or by: November 19\, 2018.\n\n \n\nIf you have any questions regarding eligibility call 644-0504 ex. 10 or 643-8905 ex 10.
X-ALT-DESC;FMTTYPE=text/html:<span style="color:#1F497D\;"><span style="font-family:calibri\,sans-serif\;"><span style="font-size:11.0pt\;">Qualifications:</span></span></span><br />\n<span style="color:#1F497D\;"><span style="font-family:calibri\,sans-serif\;"><span style="font-size:11.0pt\;">Children 18 years of age and under</span></span></span><br />\n<span style="color:#1F497D\;"><span style="font-family:calibri\,sans-serif\;"><span style="font-size:11.0pt\;">Registered in Sauk Prairie School District</span></span></span><br />\n<span style="color:#1F497D\;"><span style="font-family:calibri\,sans-serif\;"><span style="font-size:11.0pt\;">Qualify financially (low income or federal poverty guidelines)</span></span></span><br />\n&nbsp\;<br />\n<span style="color:#1F497D\;"><span style="font-family:calibri\,sans-serif\;"><span style="font-size:11.0pt\;">Applications available at:</span></span></span><br />\n<span style="color:#1F497D\;"><span style="font-family:calibri\,sans-serif\;"><span style="font-size:11.0pt\;">St. Vincent de Paul Community Resource Center 1906 North St. Prairie du Sac\, WI 53578</span></span></span><br />\n<span style="color:#1F497D\;"><span style="font-family:calibri\,sans-serif\;"><span style="font-size:11.0pt\;">Or at St. Vincent de Paul Community Store 815 19<sup>th</sup> St. Prairie du Sac\, WI 53578</span></span></span><br />\n&nbsp\;<br />\n<span style="color:#1F497D\;"><span style="font-family:calibri\,sans-serif\;"><span style="font-size:11.0pt\;">Applications should be filled out and returned on or by: November 19\, 2018.</span></span></span><br />\n&nbsp\;<br />\n<span style="color:#1F497D\;"><span style="font-family:calibri\,sans-serif\;"><span style="font-size:11.0pt\;">If you have any questions regarding eligibility call 644-0504 ex. 10 or 643-8905 ex 10.</span></span></span>
LOCATION:
UID:e.1184.20496
SEQUENCE:3
DTSTAMP:20260424T033725Z
URL:http://members.saukprairie.com/events/details/sauk-prairie-area-20th-annual-caring-tree-program-20496
END:VEVENT

END:VCALENDAR
