BEGIN:VCALENDAR
VERSION:2.0
PRODID:-//ChamberMaster//Event Calendar 2.0//EN
METHOD:PUBLISH
X-PUBLISHED-TTL:P3D
REFRESH-INTERVAL:P3D
CALSCALE:GREGORIAN
BEGIN:VEVENT
DTSTART:20200401T223000Z
DTEND:20200401T233000Z
X-MICROSOFT-CDO-ALLDAYEVENT:FALSE
SUMMARY:Sauk Prairie Area Food Pantry Distribution
DESCRIPTION:Wednesday\, April 1st distribution modifications:\n\n	Distribution time will be 5:30   6:30\n	Any car not in line by 6:30pm will have to wait until the next distribution on Wednesday\, April 8th.\n	Distribution will be a drive through pickup\n	Patrons will line up on Industry Rd\, North side of the road facing West at the entrance of the driveway of the food pantry.  Watch for the sandwich board sign.\n	\n		When distribution starts patrons will be directed to drive into the parking lot along the right side of the driveway   YOU WILL NOT BE PARKING OR GETTING OUT OF YOUR CAR\n		Drive down toward the garage door stopping by the volunteer who will check you in\n		\n			At check in the volunteer may ask you a series of questions\, name\, address\, etc.\n			When the volunteer has finished checking you in proceed to the garage door where you will receive your food box/bags\n			\n				Please pop your trunk/hatchback open so your food box/bags can be placed in your vehicle\n			\n			\n			Boxes/bags will be prepackaged and will include dry goods\, frozen foods and fresh produce\n			\n				NO SPECIAL REQUESTS\n				If you do not have freezer space or much refrigerator space and want to decline the frozen portion tell the volunteer who retrieves your box. (the entire frozen will be pulled from your box)\n			\n			\n		\n		\n		Once you have received your box/bags the volunteer will close your trunk and you may loop left and out of the parking lot.\n	\n	\n\nAgain\, we are doing everything we can to keep you\, your family and our volunteers safe and healthy!\n\nThank you for your continued patience and understanding as we all work through this together!
X-ALT-DESC;FMTTYPE=text/html:Wednesday\, April 1st distribution modifications:\n<ol>\n	<li>Distribution time will be 5:30 &ndash\; 6:30</li>\n	<li>Any car not in line by 6:30pm will have to wait until the next distribution on Wednesday\,&nbsp\;April 8th.</li>\n	<li>Distribution will be a drive through pickup</li>\n	<li>Patrons will line up on Industry Rd\, North side of the road facing West at the entrance of the driveway of the food pantry. &nbsp\;Watch for the sandwich board sign.\n	<ol style="list-style-type:lower-alpha">\n		<li>When distribution starts patrons will be directed to drive into the parking lot along the right side of the driveway &ndash\; YOU WILL NOT BE PARKING OR GETTING OUT OF YOUR CAR</li>\n		<li>Drive down toward the garage door stopping by the volunteer who will check you in\n		<ol style="list-style-type:lower-roman">\n			<li>At check in the volunteer may ask you a series of questions\, name\, address\, etc.</li>\n			<li>When the volunteer has finished checking you in proceed to the garage door where you will receive your food box/bags\n			<ol>\n				<li>Please pop your trunk/hatchback open so your food box/bags can be placed in your vehicle</li>\n			</ol>\n			</li>\n			<li>Boxes/bags will be prepackaged and will include dry goods\, frozen foods and fresh produce\n			<ol>\n				<li>NO SPECIAL REQUESTS</li>\n				<li>If you do not have freezer space or much refrigerator space and want to decline the frozen portion tell the volunteer who retrieves your box. (the entire frozen will be pulled from your box)</li>\n			</ol>\n			</li>\n		</ol>\n		</li>\n		<li>Once you have received your box/bags the volunteer will close your trunk and you may loop left and out of the parking lot.</li>\n	</ol>\n	</li>\n</ol>\nAgain\, we are doing everything we can to keep you\, your family and our volunteers safe and healthy!<br />\nThank you for your continued patience and understanding as we all work through this together!
LOCATION:Sauk Prairie Area Food Pantry 821 Industry Rd Sauk City\, WI 53583
UID:e.1184.24360
SEQUENCE:3
DTSTAMP:20260423T012126Z
URL:http://members.saukprairie.com/events/details/sauk-prairie-area-food-pantry-distribution-04-01-2020-24360
END:VEVENT

END:VCALENDAR
