BEGIN:VCALENDAR
VERSION:2.0
PRODID:-//ChamberMaster//Event Calendar 2.0//EN
METHOD:PUBLISH
X-PUBLISHED-TTL:P3D
REFRESH-INTERVAL:P3D
CALSCALE:GREGORIAN
BEGIN:VEVENT
DTSTART:20200325T223000Z
DTEND:20200325T233000Z
X-MICROSOFT-CDO-ALLDAYEVENT:FALSE
SUMMARY:Sauk Prairie Area Food Pantry Distribution
DESCRIPTION:Sauk Prairie Area Food Pantry distribution:\n\n    2.  Will line up on Industry Rd.\n\n    3.  Please keep right and watch for signage. \n\n    4.  You must be in line by 6:30pm or will have to wait until the next week's distribution. \n\n    5.  Food is pre-packaged no special requests - \n\n            a.  One dry box\n\n            b.  One produce bag\n\n            c.  One frozen bag\n\n\n\nWatch for updates as things can change rapidly: \n\n    1.  Here and on\n\n    2.  Sauk Prairie Area Food Pantry Facebook page.\n\n    3.  Check your email.  if you haven't provided the pantry with an email address please do so if you can. \n\n    4.  Listen to the pantry voicemail message for updates. 608.571.7737.\n\n\n\nWhat you can do to practice safety - social distancing (if possible keep 6 feet between you and the next person)\, wash your hands often and stay home.
X-ALT-DESC;FMTTYPE=text/html:Sauk Prairie Area Food Pantry distribution:<br />\n&nbsp\; &nbsp\; 2.&nbsp\; Will line up on Industry Rd.<br />\n&nbsp\; &nbsp\; 3.&nbsp\;&nbsp\;Please keep right and watch for signage.&nbsp\;<br />\n&nbsp\; &nbsp\; 4.&nbsp\;&nbsp\;You <u>must </u>be in line by 6:30pm or will have to wait until the next week&#39\;s distribution.&nbsp\;<br />\n&nbsp\; &nbsp\; 5.&nbsp\; Food is pre-packaged no special requests -&nbsp\;<br />\n&nbsp\;&nbsp\;&nbsp\;&nbsp\;&nbsp\;&nbsp\;&nbsp\;&nbsp\;&nbsp\; &nbsp\; a.&nbsp\; One dry box<br />\n&nbsp\;&nbsp\;&nbsp\;&nbsp\;&nbsp\;&nbsp\;&nbsp\;&nbsp\;&nbsp\; &nbsp\; b.&nbsp\; One produce bag<br />\n&nbsp\;&nbsp\;&nbsp\;&nbsp\;&nbsp\;&nbsp\;&nbsp\;&nbsp\;&nbsp\; &nbsp\; c.&nbsp\; One frozen bag<br />\n<br />\nWatch for updates as things can change rapidly:&nbsp\;<br />\n&nbsp\; &nbsp\; 1.&nbsp\; Here and on<br />\n&nbsp\; &nbsp\; 2.&nbsp\;&nbsp\;Sauk Prairie Area Food Pantry Facebook page.<br />\n&nbsp\; &nbsp\; 3.&nbsp\; Check your email.&nbsp\; if you haven&#39\;t provided the pantry with an email address please do so if you can.&nbsp\;<br />\n&nbsp\; &nbsp\; 4.&nbsp\; Listen to the pantry voicemail message for updates. 608.571.7737.<br />\n<br />\nWhat you can do to practice safety - social distancing (if possible keep 6 feet between you and the next person)\, wash your hands often and stay home.
LOCATION:Sauk Prairie Area Food Pantry 821 Industry Rd Sauk City\, WI 53583
UID:e.1184.24358
SEQUENCE:3
DTSTAMP:20260423T041447Z
URL:http://members.saukprairie.com/events/details/sauk-prairie-area-food-pantry-distribution-24358
END:VEVENT

END:VCALENDAR
