BEGIN:VCALENDAR
VERSION:2.0
PRODID:-//ChamberMaster//Event Calendar 2.0//EN
METHOD:PUBLISH
X-PUBLISHED-TTL:P3D
REFRESH-INTERVAL:P3D
CALSCALE:GREGORIAN
BEGIN:VEVENT
DTSTART:20170729T163000Z
DTEND:20170729T210000Z
X-MICROSOFT-CDO-ALLDAYEVENT:FALSE
SUMMARY:Sauk Prairie Area Foster & Adoptive Family Gathering
DESCRIPTION:A potluck picnic to celebrate the special joys and challenges of our families!\n\n\n\nSaturday\, July 29\, 11:30  4pm\n\nJaycee Athletic Park\, 305 Hemlock St\, Sauk City\, WI\n\n\n\nPlease bring a dish to pass and a game or activity to share.\n\nPaper products will be provided.\n\n\n\nFor more information or to RSVP (not required)\, contact Tara @ 608-513-1413
X-ALT-DESC;FMTTYPE=text/html:A potluck picnic to celebrate the special joys and challenges of our families!<br />\n<br />\nSaturday\, July 29\, 11:30 &ndash\;4pm<br />\nJaycee Athletic Park\, 305 Hemlock St\, Sauk City\, WI<br />\n<br />\nPlease bring a dish to pass and a game or activity to share.<br />\nPaper products will be provided.<br />\n<br />\nFor more information or to RSVP (not required)\, contact Tara @ 608-513-1413
LOCATION:
UID:e.1184.11839
SEQUENCE:3
DTSTAMP:20260425T034016Z
URL:http://members.saukprairie.com/events/details/sauk-prairie-area-foster-adoptive-family-gathering-11839
END:VEVENT

END:VCALENDAR
