BEGIN:VCALENDAR
VERSION:2.0
PRODID:-//ChamberMaster//Event Calendar 2.0//EN
METHOD:PUBLISH
X-PUBLISHED-TTL:P3D
REFRESH-INTERVAL:P3D
CALSCALE:GREGORIAN
BEGIN:VEVENT
DTSTART:20171014T163000Z
DTEND:20171014T210000Z
X-MICROSOFT-CDO-ALLDAYEVENT:FALSE
SUMMARY:Sauk Prairie Area Foster & Adoptive Family Gathering
DESCRIPTION:A networking and support event to celebrate the special joys and challenges of our families!\n\n\n\nSaturday\, Oct 14\, 11:30   4pm\n\n\n\nJaycee Athletic Park\, 305 Hemlock St\, Sauk City\, WI**\n\n\n\nLunch will be provided by Post Adoption Resource Center of Southern Wisconsin (PARC). Please RSVP to make sure we plan enough food!\n\nFor more information or to RSVP\, contact Tara @ 608-513-1413 or check out our Facebook group: Sauk Prairie Area Foster & Adoptive Families.\n\n\n\n**If fall weather closes the park early for the season\, an alternate location will be provided.
X-ALT-DESC;FMTTYPE=text/html:A networking and support event to celebrate the special joys and challenges of our families!<br />\n<br />\nSaturday\, Oct 14\, 11:30 &ndash\; 4pm<br />\n<br />\nJaycee Athletic Park\, 305 Hemlock St\, Sauk City\, WI**<br />\n<br />\nLunch will be provided by Post Adoption Resource Center of Southern Wisconsin (PARC). Please RSVP to make sure we plan enough food!<br />\nFor more information or to RSVP\, contact Tara @ 608-513-1413 or check out our Facebook group: Sauk Prairie Area Foster &amp\; Adoptive Families.<br />\n<br />\n**If fall weather closes the park early for the season\, an alternate location will be provided.
LOCATION:
UID:e.1184.12891
SEQUENCE:3
DTSTAMP:20260424T222501Z
URL:http://members.saukprairie.com/events/details/sauk-prairie-area-foster-adoptive-family-gathering-12891
END:VEVENT

END:VCALENDAR
