BEGIN:VCALENDAR
VERSION:2.0
PRODID:-//ChamberMaster//Event Calendar 2.0//EN
METHOD:PUBLISH
X-PUBLISHED-TTL:P3D
REFRESH-INTERVAL:P3D
CALSCALE:GREGORIAN
BEGIN:VEVENT
DTSTART:20180317T163000Z
DTEND:20180317T200000Z
X-MICROSOFT-CDO-ALLDAYEVENT:FALSE
SUMMARY:Sauk Prairie Area Foster & Adoptive Gathering
DESCRIPTION:Lunch provided - bring a game and the whole family!\n\n \n\nFor questions or to RSVP\, contact Tara at 608.513.1413 or todyefor2@hotmail.com.
X-ALT-DESC;FMTTYPE=text/html:<p>Lunch provided - bring a game and the whole family!<br />\n&nbsp\;</p>\n\n<p>For questions or to RSVP\, contact Tara at 608.513.1413 or todyefor2@hotmail.com.</p>\n
LOCATION:
UID:e.1184.14678
SEQUENCE:3
DTSTAMP:20260424T144818Z
URL:http://members.saukprairie.com/events/details/sauk-prairie-area-foster-adoptive-gathering-14678
END:VEVENT

END:VCALENDAR
