BEGIN:VCALENDAR
VERSION:2.0
PRODID:-//ChamberMaster//Event Calendar 2.0//EN
METHOD:PUBLISH
X-PUBLISHED-TTL:P3D
REFRESH-INTERVAL:P3D
CALSCALE:GREGORIAN
BEGIN:VEVENT
DTSTART:20200926T150000Z
DTEND:20200926T220000Z
X-MICROSOFT-CDO-ALLDAYEVENT:FALSE
SUMMARY:Sauk Prairie Art Crawl
DESCRIPTION:Sauk Prairie Art Crawl!\n\nSaturday\, September 26\, 2020 | 10am-5pm | Rain date: Sept 27\n\nDeadline to apply to be a vendor: Aug 22 by 5pm\n\nRiver Arts Inc invites you to participate in the first ever Sauk Prairie Art Crawl! This socially-distanced art event will support local artists and makers impacted by the cancellation of art fairs like Cow Chip\, while providing the community a safe shopping opportunity! The Art Crawl will take place on Saturday\, September 26\, 2020 from 10am-5pm (rain date: Sept 27*) in conjunction with Fermentation Fest's Farm/Art DTour\, one of the region's largest events drawing hundreds of visitors!\n\nArtists will have booths set up at various locations across Sauk Prairie. Each site will have 1-5 artists whose booths are spaced at least 6ft apart from each other. Customers are encouraged to travel from site to site and visit each booth! Maps will become available after Sept 12\; they will list which artists are at each site and the exact address where they can be found. Most sites will be located along Phillips Blvd and Water St.\n\nImportant safety information: Face masks will be required while customers are at/in an artists's booth. Masks are not required in transit between locations. If you are feeling unwell please do not attend.\n\nMore information will become available as the event gets closer. Check back here for details!\n\nThanks to TDS for sponsoring!
X-ALT-DESC;FMTTYPE=text/html:<h2>Sauk Prairie Art Crawl!</h2>\n\n<p><strong>Saturday\, September 26\, 2020 | 10am-5pm | Rain date: Sept 27</strong></p>\n\n<p><strong>Deadline to apply to be a vendor</strong>: Aug 22 by 5pm</p>\n\n<p>River Arts Inc invites you to participate in the first ever Sauk Prairie Art Crawl! This socially-distanced art event will support local artists and makers impacted by the cancellation of art fairs like Cow Chip\, while providing the community a safe shopping opportunity! The Art Crawl will take place on Saturday\, September 26\, 2020 from 10am-5pm (rain date: Sept 27*) in conjunction with Fermentation Fest&rsquo\;s Farm/Art DTour\, one of the region&rsquo\;s largest events drawing hundreds of visitors!</p>\n\n<p>Artists will have booths set up at various locations across Sauk Prairie. Each site will have 1-5 artists whose booths are spaced at least 6ft apart from each other. Customers are encouraged to travel from site to site and visit each booth! Maps will become available after Sept 12\; they will list which artists are at each site and the exact address where they can be found. Most sites will be located along Phillips Blvd and Water St.</p>\n\n<p><span style="color:rgb(233\, 16\, 16)">Important safety information</span>: Face masks will be required while customers are at/in an artists&rsquo\;s booth. Masks are not required in transit between locations. If you are feeling unwell please do not attend.</p>\n\n<p>More information will become available as the event gets closer. Check back here for details!<br />\nThanks to TDS for sponsoring!</p>\n
LOCATION:Sauk Prairie businesses primarily along Phillips Blvd (Hwy 12) and Water St
UID:e.1184.26071
SEQUENCE:3
DTSTAMP:20260422T165350Z
URL:http://members.saukprairie.com/events/details/sauk-prairie-art-crawl-26071
END:VEVENT

END:VCALENDAR
