BEGIN:VCALENDAR
VERSION:2.0
PRODID:-//ChamberMaster//Event Calendar 2.0//EN
METHOD:PUBLISH
X-PUBLISHED-TTL:P3D
REFRESH-INTERVAL:P3D
CALSCALE:GREGORIAN
BEGIN:VEVENT
DTSTART:20210913T170000Z
DTEND:20210913T223000Z
X-MICROSOFT-CDO-ALLDAYEVENT:FALSE
SUMMARY:Sauk Prairie Blood Drive
DESCRIPTION:Give Blood. Help save lives.\n\n\n\nSauk Prairie Community Blood Drive \n\nSponsored by Friends of Sauk Prairie Healthcare\n\n\n\nAppointments preferred\; walk-ins welcome!\n\n\n\nFor appointments call 1-800-RED CROSS (1-800-733-2767) or visit recrossblood.org and enter Sponsor Code: SaukPrairie\n\n\n\nGet gameday ready with Red Cross! Come to give September 13-30 for a limited-edition college football T-shirt\, white supplies last!
X-ALT-DESC;FMTTYPE=text/html:Give Blood. Help save lives.<br />\n<br />\nSauk Prairie Community Blood Drive&nbsp\;<br />\nSponsored by Friends of Sauk Prairie Healthcare<br />\n<br />\nAppointments preferred\; walk-ins welcome!<br />\n<br />\nFor appointments call 1-800-RED CROSS (1-800-733-2767) or visit <a href="http://recrossblood.org">recrossblood.org</a> and enter Sponsor Code: SaukPrairie<br />\n<br />\nGet gameday ready with Red Cross! Come to give September 13-30 for a limited-edition college football T-shirt\, white supplies last!
LOCATION:St. John's Lutheran Church 100 Oak Street\, Prairie du Sac
UID:e.1184.26850
SEQUENCE:3
DTSTAMP:20260421T231103Z
URL:http://members.saukprairie.com/events/details/sauk-prairie-blood-drive-26850
END:VEVENT

END:VCALENDAR
