BEGIN:VCALENDAR
VERSION:2.0
PRODID:-//ChamberMaster//Event Calendar 2.0//EN
METHOD:PUBLISH
X-PUBLISHED-TTL:P3D
REFRESH-INTERVAL:P3D
CALSCALE:GREGORIAN
BEGIN:VEVENT
DTSTART:20220523T170000Z
DTEND:20220523T223000Z
X-MICROSOFT-CDO-ALLDAYEVENT:FALSE
SUMMARY:Sauk Prairie Blood Drive
DESCRIPTION:BE PART OF SOMETHING BIG. GIVE BLOOD.\n\n\n\nSauk Prairie Community Blood Drive \n\nSponsored by Friends of Sauk Prairie Healthcare\n\n\n\nAppointments preferred\; walk-ins welcome!\n\n\n\nFor appointments call 1-800-RED CROSS (1-800-733-2767) or visit recrossblood.org and enter Sponsor Code: SaukPrairie\n\n\n\nStick to it! Come to give May 20-31 for an exclusive 20-oz. Red Cross aluminum water bottle and sticker set\, while supplies last. You can customize your bottle to show our donor pride and stay hydrated for your next donation.
X-ALT-DESC;FMTTYPE=text/html:BE PART OF SOMETHING BIG. GIVE BLOOD.<br />\n<br />\nSauk Prairie Community Blood Drive&nbsp\;<br />\nSponsored by Friends of Sauk Prairie Healthcare<br />\n<br />\nAppointments preferred\; walk-ins welcome!<br />\n<br />\nFor appointments call 1-800-RED CROSS (1-800-733-2767) or visit <a href="http://recrossblood.org">recrossblood.org</a> and enter Sponsor Code: SaukPrairie<br />\n<br />\nStick to it! Come to give May 20-31 for an exclusive 20-oz. Red Cross aluminum water bottle and sticker set\, while supplies last. You can customize your bottle to show our donor pride and stay hydrated for your next donation.&nbsp\;
LOCATION:St. John's Lutheran Church 100 Oak Street\, Prairie du Sac
UID:e.1184.27615
SEQUENCE:3
DTSTAMP:20260421T133422Z
URL:http://members.saukprairie.com/events/details/sauk-prairie-blood-drive-27615
END:VEVENT

END:VCALENDAR
