BEGIN:VCALENDAR
VERSION:2.0
PRODID:-//ChamberMaster//Event Calendar 2.0//EN
METHOD:PUBLISH
X-PUBLISHED-TTL:P3D
REFRESH-INTERVAL:P3D
CALSCALE:GREGORIAN
BEGIN:VEVENT
DTSTART:20220919T170000Z
DTEND:20220919T223000Z
X-MICROSOFT-CDO-ALLDAYEVENT:FALSE
SUMMARY:Sauk Prairie Blood Drive
DESCRIPTION:The Sauk Prairie Community Blood Drive will be held at St. John's Lutheran Church at 100 Oak Street in Prairie Du Sac on Monday\, September 19\, 2022 from 12:00 pm to 5:30 pm.  \n\n\n\nFor an appointment call 1-800-733-2767 (1-800-RED-CROSS) or visit: RedCrossBlood.org \n\n\n\nFace masks are optional. The blood drive is sponsored by Friends of Sauk Prairie Healthcare.
X-ALT-DESC;FMTTYPE=text/html:The Sauk Prairie Community Blood Drive will be held at St. John&#39\;s Lutheran Church at 100 Oak Street in Prairie Du Sac on Monday\, September 19\, 2022 from 12:00 pm to 5:30 pm.&nbsp\;&nbsp\;<br />\n<br />\nFor an appointment call 1-800-733-2767 (1-800-RED-CROSS) or visit: RedCrossBlood.org&nbsp\;<br />\n<br />\nFace masks are optional. The blood drive is sponsored by Friends of Sauk Prairie Healthcare.&nbsp\;
LOCATION:St. John's Lutheran Church 100 Oak Street\, Prairie du Sac
UID:e.1184.28658
SEQUENCE:3
DTSTAMP:20260421T061753Z
URL:http://members.saukprairie.com/events/details/sauk-prairie-blood-drive-28658
END:VEVENT

END:VCALENDAR
