BEGIN:VCALENDAR
VERSION:2.0
PRODID:-//ChamberMaster//Event Calendar 2.0//EN
METHOD:PUBLISH
X-PUBLISHED-TTL:P3D
REFRESH-INTERVAL:P3D
CALSCALE:GREGORIAN
BEGIN:VEVENT
DTSTART:20161228T180000Z
DTEND:20161228T233000Z
X-MICROSOFT-CDO-ALLDAYEVENT:FALSE
SUMMARY:Sauk Prairie Blood Drive
DESCRIPTION:Give the perfect gift.  Give Blood this Holiday season. Every presenting donor will recieve a coupon for a free pint of Culver's custard (with purchase)!
X-ALT-DESC;FMTTYPE=text/html:Give the perfect gift. &nbsp\;Give Blood this Holiday season. Every presenting donor will recieve&nbsp\;a coupon for a free pint of Culver&#39\;s custard (with purchase)!
LOCATION:GraceWay Church 1375 Lincoln Ave. Prairie du Sac\, WI
UID:e.1184.9775
SEQUENCE:3
DTSTAMP:20260425T160307Z
URL:http://members.saukprairie.com/events/details/sauk-prairie-blood-drive-9775
END:VEVENT

END:VCALENDAR
