BEGIN:VCALENDAR
VERSION:2.0
PRODID:-//ChamberMaster//Event Calendar 2.0//EN
METHOD:PUBLISH
X-PUBLISHED-TTL:P3D
REFRESH-INTERVAL:P3D
CALSCALE:GREGORIAN
BEGIN:VEVENT
DTSTART:20220305T160000Z
DTEND:20220305T200000Z
X-MICROSOFT-CDO-ALLDAYEVENT:FALSE
SUMMARY:Sauk Prairie Cocoa Crawl- 2022
DESCRIPTION:Visit participating businesses in the Sauk Prairie area! Enjoy some Hot Cocoa & Treats at each stop!\n\nTickets can be purchased at Brunker Realty Group or Country Sass Gifts at 525 Water St Prairie du Sac starting February 1st. Punch cards and list of businesses participating will be available after February 18th. Tickets are $3 per person. Money will be donated equally to the Village of Sauk & Village of Prairie du Sac. Funds will be used to beautify the streets!\n\nBring your own mug to fill at event!\n\nTurn in your punch card at the last stop to be entered into a drawing for a lovely gift basket filled with items donated by these generous local businesses!\n\nCheck back to see updates as we get closer!\n\nBUSINESS OWNERS: If you are you a business that would like to be added as a participating stop\, Click link below! Please note that to contribute to the donation basket you are committing to participate as a stop. Also we will contact all businesses once signup is complete of some suggestions etc.\n\nhttps://www.signupgenius.com/go/805044DA4A629ABFA7-sauk\n\nThank you for supporting local businesses! We love being a part of this community. We hope to see you soon!
X-ALT-DESC;FMTTYPE=text/html:<div>Visit participating businesses in the Sauk Prairie area! Enjoy some Hot Cocoa &amp\; Treats at each stop!</div>\n\n<div>Tickets can be purchased at Brunker Realty Group or Country Sass Gifts at 525 Water St Prairie du Sac starting February 1st. Punch cards and list of businesses participating will be available after February 18th. Tickets are $3 per person. Money will be donated equally to the Village of Sauk &amp\; Village of Prairie du Sac. Funds will be used to beautify the streets!</div>\n\n<div>Bring your own mug to fill at event!<br />\nTurn in your punch card at the last stop to be entered into a drawing for a lovely gift basket filled with items donated by these generous local businesses!<br />\nCheck back to see updates as we get closer!</div>\n\n<div>BUSINESS OWNERS: If you are you a business that would like to be added as a participating stop\, Click link below! Please note that to contribute to the donation basket you are committing to participate as a stop. Also we will contact all businesses once signup is complete of some suggestions etc.<br />\n<a class="oajrlxb2 g5ia77u1 qu0x051f esr5mh6w e9989ue4 r7d6kgcz rq0escxv nhd2j8a9 nc684nl6 p7hjln8o kvgmc6g5 cxmmr5t8 oygrvhab hcukyx3x jb3vyjys rz4wbd8a qt6c0cv9 a8nywdso i1ao9s8h esuyzwwr f1sip0of lzcic4wl gpro0wi8 py34i1dx" href="https://www.signupgenius.com/go/805044DA4A629ABFA7-sauk?fbclid=IwAR0a0lrDNZ7qELpXE8iwSFKPynyPieNlKS3un9TBHOk8QVuiArQmcQntyzs" rel="nofollow noopener" style="cursor: pointer\; text-decoration-line: none\; outline: none\; list-style: none\; border-width: 0px\; border-style: initial\; border-color: initial\; padding: 0px\; margin: 0px\; touch-action: manipulation\; background-color: transparent\; text-align: inherit\; display: inline\; -webkit-tap-highlight-color: transparent\; box-sizing: border-box\; font-family: inherit\;" tabindex="0" target="_blank">https://www.signupgenius.com/go/805044DA4A629ABFA7-sauk</a></div>\n\n<div>Thank you for supporting local businesses! We love being a part of this community. We hope to see you soon!</div>\n
LOCATION:There will be local businesses in both Sauk and Prairie du Sac! When you get your ticket from Brunker Realty Group or Country Sass grab a list of businesses that are participating!
UID:e.1184.27122
SEQUENCE:3
DTSTAMP:20260421T145933Z
URL:http://members.saukprairie.com/events/details/sauk-prairie-cocoa-crawl-2022-27122
END:VEVENT

END:VCALENDAR
