BEGIN:VCALENDAR
VERSION:2.0
PRODID:-//ChamberMaster//Event Calendar 2.0//EN
METHOD:PUBLISH
X-PUBLISHED-TTL:P3D
REFRESH-INTERVAL:P3D
CALSCALE:GREGORIAN
BEGIN:VEVENT
DTSTART:20240520T170000Z
DTEND:20240520T223000Z
X-MICROSOFT-CDO-ALLDAYEVENT:FALSE
SUMMARY:Sauk Prairie Community Blood Drive
DESCRIPTION:Donate blood at the Sauk Prairie Community Blood Drive on Monday\, May 20 from noon   5:30 pm at St. John's Lutheran Church (100 Oak St.\, Prairie du Sac).\n\n\n\nSchedule your appointment by calling 1-800-RED-CROSS (1-800-733-2767) or visiting RedCrossBlood.org/Give and entering sponsor code SaukPrairie. Sponsored by the Friends of Sauk Prairie Healthcare.
X-ALT-DESC;FMTTYPE=text/html:Donate blood at the Sauk Prairie Community Blood Drive on Monday\, May 20 from noon &ndash\; 5:30 pm at St. John&rsquo\;s Lutheran Church (100 Oak St.\, Prairie du Sac).<br />\n<br />\nSchedule your appointment by calling 1-800-RED-CROSS (1-800-733-2767) or visiting <u><strong><a href="https://www.redcrossblood.org/give.html/donation-time">RedCrossBlood.org/Give</a></strong> </u>and entering sponsor code SaukPrairie. Sponsored by the Friends of Sauk Prairie Healthcare.
LOCATION:St. John's Lutheran Church
UID:e.1184.32345
SEQUENCE:3
DTSTAMP:20260419T205214Z
URL:http://members.saukprairie.com/events/details/sauk-prairie-community-blood-drive-05-20-2024-32345
END:VEVENT

END:VCALENDAR
