BEGIN:VCALENDAR
VERSION:2.0
PRODID:-//ChamberMaster//Event Calendar 2.0//EN
METHOD:PUBLISH
X-PUBLISHED-TTL:P3D
REFRESH-INTERVAL:P3D
CALSCALE:GREGORIAN
BEGIN:VEVENT
DTSTART:20231211T180000Z
DTEND:20231211T233000Z
X-MICROSOFT-CDO-ALLDAYEVENT:FALSE
SUMMARY:Sauk Prairie Community Blood Drive
DESCRIPTION:Give something that means something. Give blood. The Friends of Sauk Prairie Healthcare are sponsoring a blood drive on Monday\, December 11\, 2023 from 12:00 pm to 5:30 pm at St. John's Lutheran Church. Schedule an appointment by calling 1-800-RED-CROSS (1-800-733-2767) or visiting RedCrossBlood.org/Give and entering Sponsor Code SaukPrairie.
X-ALT-DESC;FMTTYPE=text/html:Give something that means something. Give blood. The Friends of Sauk Prairie Healthcare are sponsoring a blood drive on Monday\, December 11\, 2023 from 12:00 pm to 5:30 pm at St. John&rsquo\;s Lutheran Church. Schedule an appointment by calling 1-800-RED-CROSS (1-800-733-2767) or visiting RedCrossBlood.org/Give and entering Sponsor Code SaukPrairie.
LOCATION:St. John's Lutheran Church 100 Oak Street\, Prairie du Sac
UID:e.1184.31358
SEQUENCE:3
DTSTAMP:20260420T033532Z
URL:http://members.saukprairie.com/events/details/sauk-prairie-community-blood-drive-12-11-2023-31358
END:VEVENT

END:VCALENDAR
