BEGIN:VCALENDAR
VERSION:2.0
PRODID:-//ChamberMaster//Event Calendar 2.0//EN
METHOD:PUBLISH
X-PUBLISHED-TTL:P3D
REFRESH-INTERVAL:P3D
CALSCALE:GREGORIAN
BEGIN:VEVENT
DTSTART:20191106T230000Z
DTEND:20191107T020000Z
X-MICROSOFT-CDO-ALLDAYEVENT:FALSE
SUMMARY:Sauk Prairie Community Club Meeting
DESCRIPTION:The Sauk Prairie Community Club will hold its next meeting on Wedsnesday November 6th at the Dorf Haus\, 8931 County hwy Y\, Sauk City\, Wi. Board meeting will begin at 5:00pm\, social time at 5:30 pm\, dinner at 6:00pm with speaker to follow at 6:30pm.  Cost of the dinner is $17.00. RSVP due October 30.  New members welcome.
X-ALT-DESC;FMTTYPE=text/html:<span style="font-family:helvetica\,sans-serif\;"><span style="font-size:10.0pt\;">The Sauk Prairie Community Club will hold its next meeting on Wedsnesday November 6th at the Dorf Haus\, 8931 County hwy Y\, Sauk City\, Wi. Board meeting will begin at 5:00pm\, social time at 5:30 pm\, dinner at 6:00pm with speaker to follow at 6:30pm.&nbsp\; Cost of the dinner is $17.00. RSVP due October 30.&nbsp\; New members welcome.</span></span>
LOCATION:
UID:e.1184.23631
SEQUENCE:3
DTSTAMP:20260423T083707Z
URL:http://members.saukprairie.com/events/details/sauk-prairie-community-club-meeting-23631
END:VEVENT

END:VCALENDAR
