BEGIN:VCALENDAR
VERSION:2.0
PRODID:-//ChamberMaster//Event Calendar 2.0//EN
METHOD:PUBLISH
X-PUBLISHED-TTL:P3D
REFRESH-INTERVAL:P3D
CALSCALE:GREGORIAN
BEGIN:VEVENT
DTSTART:20170715T190000Z
DTEND:20170715T210000Z
X-MICROSOFT-CDO-ALLDAYEVENT:FALSE
SUMMARY:Sauk Prairie Dancing with the Stars
DESCRIPTION:Eight of Sauk Prairie's very own celebrities will partner up with professional ballroom dancers and compete for the Mirror Ball Trophy. This is a must-see event! Visit our website for more information and to see who will compete! This event is a fundraiser for River Arts\, Inc.
X-ALT-DESC;FMTTYPE=text/html:Eight of Sauk Prairie&#39\;s very own celebrities will partner up with professional ballroom dancers and compete for the Mirror Ball Trophy. This is a must-see event! Visit our website for more information and to see who will compete! This event is a fundraiser for River Arts\, Inc.
LOCATION:River Arts Center 105 9th St\, Prairie du Sac\, WI
UID:e.1184.8862
SEQUENCE:3
DTSTAMP:20260425T033143Z
URL:http://members.saukprairie.com/events/details/sauk-prairie-dancing-with-the-stars-07-15-2017-8862
END:VEVENT

END:VCALENDAR
