BEGIN:VCALENDAR
VERSION:2.0
PRODID:-//ChamberMaster//Event Calendar 2.0//EN
METHOD:PUBLISH
X-PUBLISHED-TTL:P3D
REFRESH-INTERVAL:P3D
CALSCALE:GREGORIAN
BEGIN:VEVENT
DTSTART:20210616T210000Z
DTEND:20210617T000000Z
X-MICROSOFT-CDO-ALLDAYEVENT:FALSE
SUMMARY:Sauk Prairie Disc Golf Tournament
DESCRIPTION:Come joins us for a round of golf (9 Holes) on June 16th. This event is open to the public. There will be three shifts\, teams of four - 4pm\, 5pm and 6pm. BYOB (please no glass containers)\n\n\n\nAll profits will go to the Sauk Prairie Area Chamber of Commerce. \n\n\n\nClick here to sign up.\n\n	Please bring your own discs\n	BYOB\n	Have lots of fun!\n\nClick here for the Disc Golf Rules
X-ALT-DESC;FMTTYPE=text/html:Come joins us for a round of golf (9 Holes) on June 16th. This event is open to the public. There will be three shifts\, teams of four - 4pm\, 5pm and 6pm. BYOB (please no glass containers)<br />\n<br />\nAll profits will go to the Sauk Prairie Area Chamber of Commerce.&nbsp\;<br />\n<br />\n<a href="https://chambermaster.blob.core.windows.net/userfiles/UserFiles/chambers/1184/File/GolfForm.pdf"><strong>Click here to sign up.</strong></a>\n<ul>\n	<li>Please bring your own discs</li>\n	<li>BYOB</li>\n	<li>Have lots of fun!</li>\n</ul>\n<a href="https://chambermaster.blob.core.windows.net/userfiles/UserFiles/chambers/1184/File/DiscGolfRulesSaukPrairieAreaChamberofCommerce.pdf">Click here for the Disc Golf Rules</a>
LOCATION:Marion Park Prairie du Sac
UID:e.1184.26431
SEQUENCE:3
DTSTAMP:20260422T051358Z
URL:http://members.saukprairie.com/events/details/sauk-prairie-disc-golf-tournament-06-16-2021-26431
END:VEVENT

END:VCALENDAR
