BEGIN:VCALENDAR
VERSION:2.0
PRODID:-//ChamberMaster//Event Calendar 2.0//EN
METHOD:PUBLISH
X-PUBLISHED-TTL:P3D
REFRESH-INTERVAL:P3D
CALSCALE:GREGORIAN
BEGIN:VEVENT
DTSTART:20200924T210000Z
DTEND:20200925T000000Z
X-MICROSOFT-CDO-ALLDAYEVENT:FALSE
SUMMARY:Sauk Prairie Disc Golf Tournament
DESCRIPTION:Come joins us for a round of golf (9 Holes) on Thursday\, September 24th. This event is open to the public. There will be three shifts\, teams of four - 4pm\, 5pm and 6pm. Each team will start on a separate hole. Cash prizes. BYOB (please no glass containers)\n\n\n\nAll profits will go to the Sauk Prairie Area Chamber of Commerce. \n\n\n\nClick here to sign up today!\n\n	Please bring your own discs\n	Please no more than 10 people in an area at one time\n	Maintain physical distancing (6 Feet or more)\n\nClick here for the Disc Golf Rules
X-ALT-DESC;FMTTYPE=text/html:Come joins us for a round of golf (9 Holes) on Thursday\, September 24th. This event is open to the public. There will be three shifts\, teams of four - 4pm\, 5pm and 6pm. Each team will start on a separate hole. Cash prizes. BYOB (please no glass containers)<br />\n<br />\nAll profits will go to the Sauk Prairie Area Chamber of Commerce.&nbsp\;<br />\n<br />\n<a href="https://chambermaster.blob.core.windows.net/userfiles/UserFiles/chambers/1184/File/DiscGolfForm.pdf">Click here to sign up today!</a>\n<ul>\n	<li>Please bring your own discs</li>\n	<li>Please no more than 10 people in an area at one time</li>\n	<li>Maintain physical distancing (6 Feet or more)</li>\n</ul>\n<a href="https://chambermaster.blob.core.windows.net/userfiles/UserFiles/chambers/1184/File/DiscGolfRulesSaukPrairieAreaChamberofCommerce.pdf">Click here for the Disc Golf Rules</a>
LOCATION:Marion Park Prairie du Sac
UID:e.1184.26107
SEQUENCE:3
DTSTAMP:20260422T165435Z
URL:http://members.saukprairie.com/events/details/sauk-prairie-disc-golf-tournament-26107
END:VEVENT

END:VCALENDAR
