BEGIN:VCALENDAR
VERSION:2.0
PRODID:-//ChamberMaster//Event Calendar 2.0//EN
METHOD:PUBLISH
X-PUBLISHED-TTL:P3D
REFRESH-INTERVAL:P3D
CALSCALE:GREGORIAN
BEGIN:VEVENT
DTSTART;VALUE=DATE:20160611
DTEND;VALUE=DATE:20160612
TRANSP:TRANSPARENT
X-MICROSOFT-CDO-ALLDAYEVENT:TRUE
SUMMARY:Sauk Prairie Fly-In
DESCRIPTION:Come out for the Sauk Prairie Fly-In at the Sauk Prairie Airport.  Activities start at 7:00am with a trading post.  Food vendors\, tours of helicopters and airplanes\, all types of free kids activities and more!\n\n\n\nSome of the activities and entertainment:\n\n	Fly In/Drive In Breakfast - 7am-11am - Inside Hangar\n	Inflatables: Bouncy House & Obstacle Course - 7am-4pm \n	Helicopter Rides - 7am-4pm \n	Tank Tours - 8am-3pm\n	Open House at Sauk Prairie Small Animal Hospital\n	and many more!!!!\n\nRain date June 12th
X-ALT-DESC;FMTTYPE=text/html:Come out for the Sauk Prairie Fly-In at the Sauk Prairie Airport.&nbsp\; Activities start at 7:00am with a trading post.&nbsp\; Food vendors\, tours of helicopters and airplanes\, all types of free kids activities and more!<br />\n<br />\nSome of the activities and entertainment:\n<ul>\n	<li>Fly In/Drive In Breakfast - 7am-11am - Inside Hangar</li>\n	<li>Inflatables: Bouncy House &amp\; Obstacle Course - 7am-4pm&nbsp\;</li>\n	<li>Helicopter Rides - 7am-4pm&nbsp\;</li>\n	<li>Tank Tours - 8am-3pm</li>\n	<li>Open House at Sauk Prairie Small Animal Hospital</li>\n	<li>and many more!!!!</li>\n</ul>\nRain date June 12th
LOCATION:Sauk Prairie Airport E11398 County Road PF Prairie du Sac\, WI 53578
UID:e.1184.4617
SEQUENCE:3
DTSTAMP:20260426T020217Z
URL:http://members.saukprairie.com/events/details/sauk-prairie-fly-in-06-11-2016-4617
END:VEVENT

END:VCALENDAR
