BEGIN:VCALENDAR
VERSION:2.0
PRODID:-//ChamberMaster//Event Calendar 2.0//EN
METHOD:PUBLISH
X-PUBLISHED-TTL:P3D
REFRESH-INTERVAL:P3D
CALSCALE:GREGORIAN
BEGIN:VEVENT
DTSTART;VALUE=DATE:20180607
DTEND;VALUE=DATE:20180610
TRANSP:TRANSPARENT
X-MICROSOFT-CDO-ALLDAYEVENT:TRUE
SUMMARY:Sauk Prairie Garage SALE Days
DESCRIPTION:We are bringing back Sauk Prairie Garage Sale Days! \n\n\n\n230 4th St.\, Prairie du Sac\, WI 53578 | Multi-Family Garage Sale\, Kids clothes - girl/boy up to 2T\, Toys\n\nF 8am-6pm | SAT 8am-6pm\n\n\n\n665 5th St.\, Prairie du Sac\, WI 53578 | Multi-Family Sale - Children Items\, Wood Signs\, D cor & More!\n\nTH 8am-7pm | F 8am-5pm | SAT 8am-12pm\n\n\n\n195 5th St.\, Prairie du Sac\, WI 53578 | Brand Name Clothing\, Housewares\, Luggage\n\nTH 8am-4pm | F 8am-4pm | SAT 8am-1pm\n\n\n\n247 6th St.\, Prairie du Sac\, WI 53578 | Men's/Women's Cloths\, Dvd's/Games\, Household items\n\nTH 10am-5pm | F 10am-6pm | SAT 10am-4pm\n\n\n\n365 6th St.\, Prairie du Sac\, WI 53578 | Antiques\, Records\, Plants\, Tools\, Furniture\n\nTH 8am-5pm | F 8am-5pm | SAT 8am-1pm\n\n\n\n708 21st St.\, Prairie du Sac\, WI 53578 | Housewares\, Clothing\, Storage containers of all sorts\, & More!\n\nTH 7am-6pm | F 7am-6pm | SAT 8am\n\n\n\n600 20th St.\, Prairie du Sac\, WI 53578 | MULTI Family Garage Sale!\n\nF 8am-7pm | SAT 8am-7pm\n\n\n\n430 21st St.\, Prairie du Sac\, WI 53578 | Household\, Toys Galore\, Clothing\, & More!\n\nSAT 7am-4pm\n\n\n\n430 Whitford Ave.\, Prairie du Sac\, WI 53578 | Toys\, Clothes (girls)\, Bar Stools\, Decor\, Books\n\nTH 7:30am-5pm | F 7:30am-5pm | SAT 7:30am-2pm\n\n\n\n800 Hanksfield Place\, Prairie du Sac\, WI 53578 | Girls size 3T-6 Boys size 5T-8\n\nTH 8am-5pm | F 8am-5pm | SAT 8am-12pm\n\n\n\n296 Park Ave\, Prairie du Sac\, WI 53578 | Moving Sale - Holiday D cor\, Knickknacks\, FREE Snow Blower\n\nTH 8am-5pm | F 8am-5pm | SAT 8am-5pm\n\n\n\n2112 Mustang Dr.\, Prairie du Sac\, WI 53578 | Annual Multi Family Sale\n\nH 7am | F 8am\n\n\n\n755 Center St.\, Prairie du Sac\, WI 53578 | Furniture & Household items\n\nF 8:30am-3pm | SAT 8:30am-3pm\n\n\n\nS9989 Shirley St.\, Prairie du Sac\, WI 53578 (Across From Fox Run) | Down Sizing - Multi Family Sale\, Men & Women Clothes\, Rubber Stamps\, Paper Crafting Items\, D cor & More!\n\nTH 8am-5pm | F 8am-5pm  | SAT 8am-5pm \n\n\n\n429 Monroe St.\, Sauk City\, WI 53583 | Housewares\, D cor\, Scrap-booking\, Clothes & More!\n\nTH 9am-6pm | F 9am-6pm\n\n\n\n7213 Bergman Rd.\, Sauk City\, WI 53583 (Across from Fuchs Trucking) | Kids\, Womens\, Toys\, Household Items\n\nTH 12:30pm-5pm | F 7:30am-5pm | SAT 7:30am-5pm\n\n\n\n912 Jefferson St.\, Sauk City\, WI 53583 (in alley facing garage) | Beer Steins\, Lighthouses\, Pepsi Chairs\, Decor & More!\n\nTH 8am-5pm | F 8am-5pm  | SAT 8am-5pm \n\n\n\n1709 Washington Ave\, Sauk City\, WI 53583 | Nb-3t Clothes\, Baby & Household Items\n\nTH 8am-4:30pm | F 8am-4:30pm \n\n\n\n111 Washington St.\, Sauk City\, WI 53583 | Outdoor Patio Furniture\, Name Brand Teenage Clothes\,\n\nSoccer Gear (Cleats And More)\, Boys Name Brand Clothing\, & More!\n\nTH 8am | F 8am  | SAT 8am\n\n\n\n1610 Kent Ct.\, Sauk City\, WI 53583 | Large Variety\, Something For Everyone! \n\nTH 8am-5pm | F 8am-5pm  | SAT 8am-5pm \n\n\n\n515 Dallas St.\, Sauk City\, WI 53583 | High-end Clothing\, Avon\, Canon Video Camera\, Vintage Items\, Dvd's & Cd's\n\nTH 8am-5pm\n\n\n\n1717 Magnolia Court\, Sauk City\, WI 53583 | Cherry Computer Desk\, Air purifiers\, Boys (Nike/Under Armour)\, Teen Girls (PINK/American Eagle/Miss Me/UGG Boots)\, Twin XL Comforter Set\, Paul Krapf Plates\, Oreck floor cleaner  \n\nTH 8am | F 8am  | SAT 8am\n\n \n\n709 Dallas St.\, Sauk City\, WI 53583 | Fouton\, adult clothes and shoes\, booster chairs\, high chair\, toy storage shelf and benches with bins\, household and more!\n\nTH 8am-5pm | F 8am-5pm | 8am\n\n \n\n193 Mullberry St.\, Sauk City\, WI 53583 | Girls Clothes Newborn-12\, Boys Clothes Newborn-3T\, shoes\, strollers\, highchairs\, pack & plays\, cars\, toys\, household goods\, swings and much more!  Priced to sell quickly!  \n\nTH 7:30am-4 | SAT 7:30am-1pm
X-ALT-DESC;FMTTYPE=text/html:<span style="color: rgb(29\, 33\, 41)\; font-family: Helvetica\, Arial\, sans-serif\; font-size: 14px\;">We are bringing back Sauk Prairie Garage Sale Days! </span><br />\n<br />\n230 4th St.\, Prairie du Sac\, WI 53578 | Multi-Family Garage Sale\, Kids clothes - girl/boy up to 2T\, Toys<br />\nF 8am-6pm | SAT 8am-6pm<br />\n<br />\n665 5th St.\, Prairie du Sac\, WI 53578 | Multi-Family Sale - Children Items\, Wood Signs\, D&eacute\;cor &amp\; More!<br />\nTH 8am-7pm | F 8am-5pm | SAT 8am-12pm<br />\n<br />\n195 5th St.\, Prairie du Sac\, WI 53578 | Brand Name Clothing\, Housewares\, Luggage<br />\nTH 8am-4pm | F 8am-4pm | SAT 8am-1pm<br />\n<br />\n247 6th St.\, Prairie du Sac\, WI 53578 | Men&rsquo\;s/Women&rsquo\;s Cloths\, Dvd&rsquo\;s/Games\, Household items<br />\nTH 10am-5pm | F 10am-6pm | SAT 10am-4pm<br />\n<br />\n365 6th St.\, Prairie du Sac\, WI 53578 | Antiques\, Records\, Plants\, Tools\, Furniture<br />\nTH 8am-5pm | F 8am-5pm | SAT 8am-1pm<br />\n<br />\n708 21st St.\, Prairie du Sac\, WI 53578 | Housewares\, Clothing\, Storage containers of all sorts\, &amp\; More!<br />\nTH 7am-6pm | F 7am-6pm | SAT 8am<br />\n<br />\n600 20th St.\, Prairie du Sac\, WI 53578 | MULTI Family Garage Sale!<br />\nF 8am-7pm | SAT 8am-7pm<br />\n<br />\n430 21st St.\, Prairie du Sac\, WI 53578 | Household\, Toys Galore\, Clothing\, &amp\; More!<br />\nSAT 7am-4pm<br />\n<br />\n430 Whitford Ave.\, Prairie du Sac\, WI 53578 | Toys\, Clothes (girls)\, Bar Stools\, Decor\, Books<br />\nTH 7:30am-5pm | F 7:30am-5pm | SAT 7:30am-2pm<br />\n<br />\n800 Hanksfield Place\, Prairie du Sac\, WI 53578 | Girls size 3T-6 Boys size 5T-8<br />\nTH 8am-5pm | F 8am-5pm | SAT 8am-12pm<br />\n<br />\n296 Park Ave\, Prairie du Sac\, WI 53578 | Moving Sale - Holiday D&eacute\;cor\, Knickknacks\, FREE Snow Blower<br />\nTH 8am-5pm | F 8am-5pm | SAT 8am-5pm<br />\n<br />\n2112 Mustang Dr.\, Prairie du Sac\, WI 53578 | Annual Multi Family Sale<br />\nH 7am | F 8am<br />\n<br />\n755 Center St.\, Prairie du Sac\, WI 53578 | Furniture &amp\; Household items<br />\nF 8:30am-3pm | SAT 8:30am-3pm<br />\n<br />\nS9989 Shirley St.\, Prairie du Sac\, WI 53578 (Across From Fox Run) | Down Sizing - Multi Family Sale\, Men &amp\;&nbsp\;Women Clothes\, Rubber Stamps\, Paper Crafting Items\, D&eacute\;cor &amp\; More!<br />\nTH 8am-5pm | F 8am-5pm&nbsp\; | SAT 8am-5pm&nbsp\;<br />\n<br />\n429 Monroe St.\, Sauk City\, WI 53583 | Housewares\, D&eacute\;cor\, Scrap-booking\, Clothes &amp\; More!<br />\nTH 9am-6pm | F 9am-6pm<br />\n<br />\n7213 Bergman Rd.\, Sauk City\, WI 53583 (Across from Fuchs Trucking) | Kids\, Womens\, Toys\, Household Items<br />\nTH 12:30pm-5pm | F 7:30am-5pm | SAT 7:30am-5pm<br />\n<br />\n912 Jefferson St.\, Sauk City\, WI 53583 (in alley facing garage) | Beer Steins\, Lighthouses\, Pepsi Chairs\, Decor &amp\; More!<br />\nTH 8am-5pm | F 8am-5pm&nbsp\; | SAT 8am-5pm&nbsp\;<br />\n<br />\n1709 Washington Ave\, Sauk City\, WI 53583 | Nb-3t Clothes\, Baby &amp\; Household Items<br />\nTH 8am-4:30pm | F 8am-4:30pm&nbsp\;<br />\n<br />\n111 Washington St.\, Sauk City\, WI 53583 | Outdoor Patio Furniture\, Name Brand Teenage Clothes\,<br />\nSoccer Gear (Cleats And More)\, Boys Name Brand Clothing\, &amp\; More!<br />\nTH 8am | F 8am&nbsp\; | SAT 8am<br />\n<br />\n1610 Kent Ct.\, Sauk City\, WI 53583 | Large Variety\, Something For Everyone!&nbsp\;<br />\nTH 8am-5pm | F 8am-5pm&nbsp\; | SAT 8am-5pm&nbsp\;<br />\n<br />\n515 Dallas St.\, Sauk City\, WI 53583 | High-end Clothing\, Avon\, Canon Video Camera\, Vintage Items\, Dvd&#39\;s &amp\; Cd&#39\;s<br />\nTH 8am-5pm<br />\n<br />\n1717 Magnolia Court\, Sauk City\, WI 53583 | Cherry Computer Desk\, Air purifiers\, Boys (Nike/Under Armour)\, Teen Girls (PINK/American Eagle/Miss Me/UGG Boots)\, Twin XL Comforter Set\, Paul Krapf Plates\, Oreck floor cleaner&nbsp\;&nbsp\;<br />\nTH 8am | F 8am&nbsp\; | SAT 8am<br />\n&#8203\;<br />\n709 Dallas St.\, Sauk City\, WI 53583 | Fouton\, adult clothes and shoes\, booster chairs\, high chair\, toy storage shelf and benches with bins\, household and more!<br />\nTH 8am-5pm&nbsp\;| F 8am-5pm&nbsp\;| 8am<br />\n&#8203\;<br />\n193 Mullberry St.\, Sauk City\, WI 53583 |&nbsp\;<span style="font-family:helvetica\,sans-serif\;"><span style="font-size:10.0pt\;">Girls Clothes Newborn-12\, Boys Clothes Newborn-3T\, shoes\, strollers\, highchairs\, pack &amp\; plays\, cars\, toys\, household goods\, swings and much more!&nbsp\; Priced to sell quickly!&nbsp\;&nbsp\;</span></span><br />\nTH 7:30am-4 | SAT 7:30am-1pm
LOCATION:
UID:e.1184.18130
SEQUENCE:3
DTSTAMP:20260424T115259Z
URL:http://members.saukprairie.com/events/details/sauk-prairie-garage-sale-days-18130
END:VEVENT

END:VCALENDAR
