BEGIN:VCALENDAR
VERSION:2.0
PRODID:-//ChamberMaster//Event Calendar 2.0//EN
METHOD:PUBLISH
X-PUBLISHED-TTL:P3D
REFRESH-INTERVAL:P3D
CALSCALE:GREGORIAN
BEGIN:VEVENT
DTSTART;VALUE=DATE:20240516
DTEND;VALUE=DATE:20240519
TRANSP:TRANSPARENT
X-MICROSOFT-CDO-ALLDAYEVENT:TRUE
SUMMARY:Sauk Prairie Garage SALE Days
DESCRIPTION:Save the date for 2024\n\n\n\nHappy Shopping!\n\n\n\nClick here for a pdf of all the listings!\n\n\n\nTo view all listings on google maps - Click here
X-ALT-DESC;FMTTYPE=text/html:<div class="kvgmc6g5 cxmmr5t8 oygrvhab hcukyx3x c1et5uql" segoe="" style="overflow-wrap: break-word\; margin: 0px\; font-family: " ui=""><u><strong>Save the date for 2024</strong></u><br />\n<br />\n<font color="#050505" style="color: rgb(5\, 5\, 5)\; font-size: 15px\;"><span style="font-size: 15px\;">Happy Shopping!</span></font><br />\n<br />\n<font color="#050505" style="color: rgb(5\, 5\, 5)\; font-size: 15px\;"><span style="font-size: 15px\;"><a href="https://chambermaster.blob.core.windows.net/userfiles/UserFiles/chambers/1184/CMS/Garage-Sale-Days-Flyer-2024.pdf"><strong>Click here</strong></a> for a pdf of all the listings!<br />\n<br />\nTo view all listings on google maps - <strong><a href="https://chambermaster.blob.core.windows.net/userfiles/UserFiles/chambers/1184/CMS/Garage-Sale-Days-Flyer-2024.pdf">Click here</a></strong></span></font>\n<div>\n<div>\n<div style="box-sizing: border-box\; color: rgb(68\, 68\, 68)\; font-family: Arial\, Helvetica\, sans-serif\; font-size: 14px\;">\n<div style="box-sizing: border-box\;">\n<div style="box-sizing: border-box\;">\n<div style="box-sizing: border-box\;">\n<div style="box-sizing: border-box\;">\n<div style="box-sizing: border-box\;">\n<div style="box-sizing: border-box\;">\n<div style="box-sizing: border-box\;">\n<div style="box-sizing: border-box\;">\n<div style="box-sizing: border-box\;">\n<div style="box-sizing: border-box\;">\n<div style="box-sizing: border-box\;">\n<div style="box-sizing: border-box\;">\n<div style="box-sizing: border-box\;">\n<div style="box-sizing: border-box\;">\n<div style="box-sizing: border-box\;">\n<div style="box-sizing: border-box\;">\n<div style="box-sizing: border-box\;"><br />\n&nbsp\;</div>\n</div>\n</div>\n</div>\n</div>\n</div>\n</div>\n</div>\n</div>\n</div>\n</div>\n</div>\n</div>\n</div>\n</div>\n</div>\n</div>\n</div>\n</div>\n</div>\n</div>\n
LOCATION:Sauk Prairie
UID:e.1184.31408
SEQUENCE:3
DTSTAMP:20260419T205026Z
URL:http://members.saukprairie.com/events/details/sauk-prairie-garage-sale-days-31408
END:VEVENT

END:VCALENDAR
