BEGIN:VCALENDAR
VERSION:2.0
PRODID:-//ChamberMaster//Event Calendar 2.0//EN
METHOD:PUBLISH
X-PUBLISHED-TTL:P3D
REFRESH-INTERVAL:P3D
CALSCALE:GREGORIAN
BEGIN:VEVENT
DTSTART:20200124T150000Z
DTEND:20200124T200000Z
X-MICROSOFT-CDO-ALLDAYEVENT:FALSE
SUMMARY:Sauk Prairie Healthcare Blood Drive
DESCRIPTION:Sauk Prairie Healthcare is hosting a blood drive with the American Red Cross Friday\, January 24 at Sauk Prairie Hospital's Conference Center from 9 am to 2 pm. Walk-ins are welcome\, but you can save time by making an appointment at https://www.redcrossblood.org or call 800-RED-CROSS.
X-ALT-DESC;FMTTYPE=text/html:<p>Sauk Prairie Healthcare is hosting a blood drive with the American Red Cross Friday\, January 24 at Sauk Prairie Hospital&rsquo\;s Conference Center from 9 am to 2 pm. Walk-ins are welcome\, but you can save time by making an appointment at https://www.redcrossblood.org or call 800-RED-CROSS.</p>\n
LOCATION:Sauk Prairie Hospital\, 260 26th Street\, Prairie du Sac\, WI 53578
UID:e.1184.24007
SEQUENCE:3
DTSTAMP:20260423T054039Z
URL:http://members.saukprairie.com/events/details/sauk-prairie-healthcare-blood-drive-01-24-2020-24007
END:VEVENT

END:VCALENDAR
