BEGIN:VCALENDAR
VERSION:2.0
PRODID:-//ChamberMaster//Event Calendar 2.0//EN
METHOD:PUBLISH
X-PUBLISHED-TTL:P3D
REFRESH-INTERVAL:P3D
CALSCALE:GREGORIAN
BEGIN:VEVENT
DTSTART:20240126T153000Z
DTEND:20240126T203000Z
X-MICROSOFT-CDO-ALLDAYEVENT:FALSE
SUMMARY:Sauk Prairie Healthcare Blood Drive
DESCRIPTION:Give blood. Help save lives. Donate blood at the Sauk Prairie Healthcare Blood Drive on Friday\, January 26\, 2024 from 9:30 am to 2:30 pm at the Sauk Prairie Hospital Conference Center A (260 26th Street\, Prairie du Sac). Donate blood between January 1-31 to automatically be entered for a chance to win an exciting trip for you and a guest to Super Bowl LVIII in Vegas! Includes travel\, hotel\, $1\,000 gift card\, pre-game activities\, and more. Terms apply\; visit RedCrossBlood.org/SuperBowl. Schedule an appointment by calling 1-800-RED-CROSS (1-800-733-2767) or visiting RedCrossBlood.org/Give and entering sponsor code Healthcare.
X-ALT-DESC;FMTTYPE=text/html:Give blood. Help save lives. Donate blood at the Sauk Prairie Healthcare Blood Drive on Friday\, January 26\, 2024 from 9:30 am to 2:30 pm at the Sauk Prairie Hospital Conference Center A (260 26th Street\, Prairie du Sac). Donate blood between January 1-31 to automatically be entered for a chance to win an exciting trip for you and a guest to Super Bowl LVIII in Vegas! Includes travel\, hotel\, $1\,000 gift card\, pre-game activities\, and more. Terms apply\; visit RedCrossBlood.org/SuperBowl. Schedule an appointment by calling 1-800-RED-CROSS (1-800-733-2767) or visiting RedCrossBlood.org/Give and entering sponsor code Healthcare.
LOCATION:Sauk Prairie Hospital Conference Center A 260 26th Street\, Prairie du Sac
UID:e.1184.31423
SEQUENCE:3
DTSTAMP:20260420T020705Z
URL:http://members.saukprairie.com/events/details/sauk-prairie-healthcare-blood-drive-01-26-2024-31423
END:VEVENT

END:VCALENDAR
