BEGIN:VCALENDAR
VERSION:2.0
PRODID:-//ChamberMaster//Event Calendar 2.0//EN
METHOD:PUBLISH
X-PUBLISHED-TTL:P3D
REFRESH-INTERVAL:P3D
CALSCALE:GREGORIAN
BEGIN:VEVENT
DTSTART:20240607T143000Z
DTEND:20240607T193000Z
X-MICROSOFT-CDO-ALLDAYEVENT:FALSE
SUMMARY:Sauk Prairie Healthcare Blood Drive
DESCRIPTION:Donate blood at the Sauk Prairie Healthcare Blood Drive on Friday\, June 7 from 9:30 am   2:30 pm at Sauk Prairie Hospital (260 26th St.\, Prairie du Sac).\n\n\n\nSchedule your appointment by calling 1-800-RED-CROSS (1-800-733-2767) or visiting RedCrossBlood.org/Give and using sponsor code Healthcare. Sponsored by Sauk Prairie Healthcare.
X-ALT-DESC;FMTTYPE=text/html:Donate blood at the Sauk Prairie Healthcare Blood Drive on Friday\, June 7 from 9:30 am &ndash\; 2:30 pm at Sauk Prairie Hospital (260 26th St.\, Prairie du Sac).<br />\n<br />\nSchedule your appointment by calling 1-800-RED-CROSS (1-800-733-2767) or visiting RedCrossBlood.org/Give and using sponsor code Healthcare. Sponsored by Sauk Prairie Healthcare.
LOCATION:Sauk Prairie Hospital Conference Center A 260 26th St.\, Prairie du Sac
UID:e.1184.32398
SEQUENCE:3
DTSTAMP:20260419T192946Z
URL:http://members.saukprairie.com/events/details/sauk-prairie-healthcare-blood-drive-06-07-2024-32398
END:VEVENT

END:VCALENDAR
