BEGIN:VCALENDAR
VERSION:2.0
PRODID:-//ChamberMaster//Event Calendar 2.0//EN
METHOD:PUBLISH
X-PUBLISHED-TTL:P3D
REFRESH-INTERVAL:P3D
CALSCALE:GREGORIAN
BEGIN:VEVENT
DTSTART:20241129T153000Z
DTEND:20241129T203000Z
X-MICROSOFT-CDO-ALLDAYEVENT:FALSE
SUMMARY:Sauk Prairie Healthcare Blood Drive
DESCRIPTION:Donate blood at the Sauk Prairie Healthcare Blood Drive on Friday\, November 29\, 2024 from 9:30 a.m. to 2:30 p.m. at Sauk Prairie Hospital (260 26th St.\, Prairie du Sac).\n\n\n\nAll presenting donors will get a coupon for a free pint of Culver's custard! Give November 18-December 8 for two pairs of custom Friends + Red Cross socks. Keep one\, gift one! Limited quantity.\n\n\n\nSchedule an appointment by calling 1-800-RED-CROSS (1-800-733-2767) or visiting RedCrossBlood.org and use sponsor code Healthcare.
X-ALT-DESC;FMTTYPE=text/html:Donate blood at the Sauk Prairie Healthcare Blood Drive on Friday\, November 29\, 2024 from 9:30 a.m. to 2:30 p.m. at Sauk Prairie Hospital (260 26<sup>th</sup> St.\, Prairie du Sac).<br />\n<br />\nAll presenting donors will get a coupon for a free pint of Culver&rsquo\;s custard! Give November 18-December 8 for two pairs of custom Friends + Red Cross socks. Keep one\, gift one! Limited quantity.<br />\n<br />\nSchedule an appointment by calling 1-800-RED-CROSS (1-800-733-2767) or visiting RedCrossBlood.org and use sponsor code Healthcare.
LOCATION:Sauk Prairie Hospital Conference Center A 260 26th St.\, Prairie du Sac
UID:e.1184.34347
SEQUENCE:3
DTSTAMP:20260419T132420Z
URL:http://members.saukprairie.com/events/details/sauk-prairie-healthcare-blood-drive-11-29-2024-34347
END:VEVENT

END:VCALENDAR
