BEGIN:VCALENDAR
VERSION:2.0
PRODID:-//ChamberMaster//Event Calendar 2.0//EN
METHOD:PUBLISH
X-PUBLISHED-TTL:P3D
REFRESH-INTERVAL:P3D
CALSCALE:GREGORIAN
BEGIN:VEVENT
DTSTART:20190125T150000Z
DTEND:20190125T200000Z
X-MICROSOFT-CDO-ALLDAYEVENT:FALSE
SUMMARY:Sauk Prairie Healthcare Blood Drive
DESCRIPTION:Give life with a donation to the American Red Cross on January 25. Friends of Sauk Prairie Healthcare will be hosting the the drive at the Sauk Prairie Healthcare Conference Center\, at 260 26th Street\, Prairie du Sac. Donations will be taken from 9 a.m. to 2 p.m. Appointments are preferred\, but walk-ins are welcome. To make an appointment call 1-800-RED-CROSS or visit redcross.org. You can save up to 15 minutes from your appointment when you use RapidPass. for more information visit RedCrossBlood.org/RapidPass.
X-ALT-DESC;FMTTYPE=text/html:Give life with a donation to the American Red Cross on January 25. Friends of Sauk Prairie Healthcare will be hosting the the drive at the Sauk Prairie Healthcare Conference Center\, at 260 26th Street\, Prairie du Sac. Donations will be taken from 9 a.m. to 2 p.m. Appointments are preferred\, but walk-ins are welcome. To make an appointment call 1-800-RED-CROSS or visit redcross.org. You can save up to 15 minutes from your appointment when you use RapidPass. for more information visit RedCrossBlood.org/RapidPass.
LOCATION:Sauk Prairie Hospital Conference Center
UID:e.1184.21691
SEQUENCE:3
DTSTAMP:20260423T230922Z
URL:http://members.saukprairie.com/events/details/sauk-prairie-healthcare-blood-drive-21691
END:VEVENT

END:VCALENDAR
