BEGIN:VCALENDAR
VERSION:2.0
PRODID:-//ChamberMaster//Event Calendar 2.0//EN
METHOD:PUBLISH
X-PUBLISHED-TTL:P3D
REFRESH-INTERVAL:P3D
CALSCALE:GREGORIAN
BEGIN:VEVENT
DTSTART:20181212T150000Z
DTEND:20181212T210000Z
X-MICROSOFT-CDO-ALLDAYEVENT:FALSE
SUMMARY:Sauk Prairie Healthcare Chocolate Sale
DESCRIPTION:The Friends of Sauk Prairie Healthcare are offering chocolate therapy at Sauk Prairie Hospital on December 12. The group is hosting a chocolate sale fundraiser with Paul's Chocolates of Sauk City at Sauk Prairie Hospital\, at 260 26th Street\, Prairie du Sac on Wednesday December 12\, from 9:00 a.m to 3 p.m. Chocolatier Paul Beloungy will be on hand with boxes and samples of his roughly 18 flavors of chocolates\, truffles and caramels\, including December's flavors of the month\, egg nog and peppermint. Paul's Chocolates has no storefront\, but was voted "2016 Best of the 'Burbs" by Madison Magazine with a selection of creative flavor combinations designed for more discriminating adult pallets. Proceeds from the sale will benefit the Friends of Sauk Prairie Healthcare. Since 1956\, the Friends of SPH has dedicated itself to the improvement of our hospital and clinics through service\, education and special projects. Call 643-7257 for membership information.
X-ALT-DESC;FMTTYPE=text/html:The Friends of Sauk Prairie Healthcare are offering chocolate therapy at Sauk Prairie Hospital on December 12. The group is hosting a chocolate sale fundraiser with Paul&rsquo\;s Chocolates of Sauk City at Sauk Prairie Hospital\, at 260 26th Street\, Prairie du Sac on Wednesday December 12\, from 9:00 a.m to 3 p.m. Chocolatier Paul Beloungy will be on hand with boxes and samples of his roughly 18 flavors of chocolates\, truffles and caramels\, including December&rsquo\;s flavors of the month\, egg nog and peppermint. Paul&rsquo\;s Chocolates has no storefront\, but was voted &ldquo\;2016 Best of the &lsquo\;Burbs&rdquo\; by Madison Magazine with a selection of creative flavor combinations designed for more discriminating adult pallets. Proceeds from the sale will benefit the Friends of Sauk Prairie Healthcare. Since 1956\, the Friends of SPH has dedicated itself to the improvement of our hospital and clinics through service\, education and special projects. Call 643-7257 for membership information.
LOCATION:Sauk Prairie Healthcare\, 260 26th Street\, Prairie du Sac
UID:e.1184.21477
SEQUENCE:3
DTSTAMP:20260424T005040Z
URL:http://members.saukprairie.com/events/details/sauk-prairie-healthcare-chocolate-sale-21477
END:VEVENT

END:VCALENDAR
