BEGIN:VCALENDAR
VERSION:2.0
PRODID:-//ChamberMaster//Event Calendar 2.0//EN
METHOD:PUBLISH
X-PUBLISHED-TTL:P3D
REFRESH-INTERVAL:P3D
CALSCALE:GREGORIAN
BEGIN:VEVENT
DTSTART:20240911T220000Z
DTEND:20240911T230000Z
X-MICROSOFT-CDO-ALLDAYEVENT:FALSE
SUMMARY:Sauk Prairie Healthcare Diabetes Prevention Lifestyle Change Program Free Informational Meeting
DESCRIPTION:At risk for prediabetes or type 2 diabetes? Sauk Prairie Healthcare's Diabetes Prevention Lifestyle Change Program offers support building healthy food and fitness habits to prevent or delay type 2 diabetes. Join the program and get a free Wellspring membership and weekly health coaching sessions.\n\n\n\nLearn more at our free informational meeting on Wednesday\, September 11 at 5 p.m. in-person at Wellspring (90 Oak St.\, Prairie du Sac) or virtually.\n\n\n\nFall session runs Wednesdays\, September 18   December 18\, 2024 from 5-6 p.m. in-person or virtually. Learn more at www.SaukPrairieHealthcare.org/Diabetes-Preventio
X-ALT-DESC;FMTTYPE=text/html:At risk for prediabetes or type 2 diabetes? Sauk Prairie Healthcare&rsquo\;s Diabetes Prevention Lifestyle Change Program offers support building healthy food and fitness habits to prevent or delay type 2 diabetes. Join the program and get a free Wellspring membership and weekly health coaching sessions.<br />\n<br />\nLearn more at our free informational meeting on Wednesday\, September 11 at 5 p.m. in-person at Wellspring (90 Oak St.\, Prairie du Sac) or virtually.<br />\n<br />\nFall session runs Wednesdays\, September 18 &ndash\; December 18\, 2024 from 5-6 p.m. in-person or virtually. Learn more at <a href="http://www.saukprairiehealthcare.org/Diabetes-Prevention">www.SaukPrairieHealthcare.org/Diabetes-Preventio</a>
LOCATION:Wellspring 90 Oak St. Prairie du Sac
UID:e.1184.32910
SEQUENCE:3
DTSTAMP:20260419T160939Z
URL:http://members.saukprairie.com/events/details/sauk-prairie-healthcare-diabetes-prevention-lifestyle-change-program-free-informational-meeting-32910
END:VEVENT

END:VCALENDAR
