BEGIN:VCALENDAR
VERSION:2.0
PRODID:-//ChamberMaster//Event Calendar 2.0//EN
METHOD:PUBLISH
X-PUBLISHED-TTL:P3D
REFRESH-INTERVAL:P3D
CALSCALE:GREGORIAN
BEGIN:VEVENT
DTSTART:20230906T220000Z
DTEND:20230906T230000Z
X-MICROSOFT-CDO-ALLDAYEVENT:FALSE
SUMMARY:Sauk Prairie Healthcare’s Diabetes Prevention Lifestyle Change Program
DESCRIPTION:At risk for prediabetes or type 2 diabetes? Sauk Prairie Healthcare's Diabetes Prevention Lifestyle Change Program offers support building healthy food and fitness habits to prevent or delay type 2 diabetes. Join the program and get a free Wellspring fitness membership and weekly health coaching sessions. Fall session runs Wednesdays September 13   December 13 in-person or virtually. Learn more about the program at our free informational meeting on September 6 at 5pm at Wellspring or visit www.SaukPrairieHealthcare.org/Diabetes-Prevention.
X-ALT-DESC;FMTTYPE=text/html:At risk for prediabetes or type 2 diabetes? Sauk Prairie Healthcare&rsquo\;s Diabetes Prevention Lifestyle Change Program offers support building healthy food and fitness habits to prevent or delay type 2 diabetes. Join the program and get a free Wellspring fitness membership and weekly health coaching sessions. Fall session runs Wednesdays September 13 &ndash\; December 13 in-person or virtually. Learn more about the program at our free informational meeting on September 6 at 5pm at Wellspring or visit www.SaukPrairieHealthcare.org/Diabetes-Prevention.
LOCATION:Wellspring 90 Oak Street Prairie du Sac\, WI 53578
UID:e.1184.30923
SEQUENCE:3
DTSTAMP:20260420T075323Z
URL:http://members.saukprairie.com/events/details/sauk-prairie-healthcare-s-diabetes-prevention-lifestyle-change-program-30923
END:VEVENT

END:VCALENDAR
